Workbook
Name 事業計画書_福祉避難所別_: #REF!
Name 職員一覧: 別記第１号様式別紙_対象者一覧!$B$12:$K$111
Name 職員一覧: '別記第4号様式別紙_対象者一覧（変更） '!$B$12:$K$111
Name 職員一覧: '別記第８号様式別紙_対象者一覧（実績）'!$B$14:$K$113
Name 職員一覧: #REF!
Name 職員一覧実績: #REF!
Name 職員一覧実績: #REF!
Name 職員一覧実績: #REF!
Name 職員一覧実績: #REF!
Name 職員一覧変更: #REF!
Name 法人名称: #REF!
Name 法人名称: #REF!
Name 法人名称: #REF!
Name 法人名称: #REF!
Name 法人名称: #REF!
Name 法人名称: #REF!
Name 法人名称: 【入力】基本情報シート!$J$27

Sheet 提出シート一覧
D2: ・・・入力が必要
D3: ・・・一部入力が必要
D4: ・・・自動作成
D5: ・・・チェック（☑）が必要
B7: シート名 | C7: ① 当初交付申請 | D7: ② 変更交付申請 | E7: ③ 請求 | F7: ④ 実績報告
B8: 【入力】基本情報シート | C8: 〇 | D8: 〇 | E8: 〇 | F8: 〇
B9: ①【入力】就業規則等一覧 | C9: 〇
B10: ①【入力】別紙_対象者一覧 | C10: 〇
B11: ①事業所別一覧 | C11: 〇
B12: ①【チェック】提出内容確認書 | C12: 〇
B13: ①別記第１号様式_交付申請書 | C13: 〇
B14: ②【入力】就業規則等一覧（変更） | D14: 〇
B15: ②【入力】別紙_対象者一覧（変更） | D15: 〇
B16: ②事業所別一覧（変更） | D16: 〇
B17: ②【チェック】提出内容確認書（変更） | D17: 〇
B18: ②別記第４号様式_変更交付申請書 | D18: 〇
B19: ③別記第７号様式_請求書兼口座振替依頼書 | E19: 〇
B20: ④【入力】就業規則等一覧（実績） | F20: 〇
B21: ④【入力】別紙_対象者一覧（実績） | F21: 〇
B22: ④事業所別一覧（実績） | F22: 〇
B23: ④別記第8号様式_実績報告書 | F23: 〇
B24: ④精算書 | F24: 〇

Sheet 【入力】基本情報シート
C1: 令和 | D1: 8 | E1: 年度渋谷区福祉人材支援手当事業交付申請書 基本情報シート（障がい）
A3: １．提出年月日等
B4: ◆交付申請
B5: 提出日 | J5: 令和 | N5: 年 | R5: 月 | V5: 日
B7: ◆変更交付申請 | H7: 該当
B8: 提出日 | J8: 令和 | N8: 年 | R8: 月 | V8: 日
B9: 当初交付決定額 | Q9: 円
B10: 変更理由 | AK10: 職員情報の変更があるため
AK11: 法人情報・振込先口座の変更があるため
B12: ◆請求（当初交付） | AK12: その他（下記に理由を記入）
B13: 交付決定日 | J13: 令和 | N13: 年 | R13: 月 | V13: 日
B14: 文書番号 | J14: 8渋福障収第 | Q14: 号 | Y14: 交付決定通知から転記
B15: 交付決定額 | Q15: 円
B17: ◆請求（変更交付） | AK17: その他（下記に理由を記入）
B18: 変更交付決定日 | J18: 令和 | N18: 年 | R18: 月 | V18: 日
B19: 文書番号 | J19: 8渋福障収第 | Q19: 号 | Y19: 変更交付決定通知から転記
B20: 変更交付決定額 | Q20: 円
B22: ◆実績報告
B23: 提出日 | J23: 令和 | N23: 年 | R23: 月 | V23: 日
A25: ２．申請法人情報
B26: 会社法人等番号（12桁） | AJ26: ※12桁でハイフンは不要です。
B27: 法人名称 | AJ27: 申請時点で最新の情報をご入力下さい。
B28: 法人所在地 | J28: 郵便番号 | P28: ー | AJ28: 申請時点で最新の情報をご入力下さい。
J29: 住所 | AJ29: 申請時点で最新の情報をご入力下さい。
B30: 代表者職名 | AJ30: 申請時点で最新の情報をご入力下さい。
B31: 代表者氏名 | AJ31: 申請時点で最新の情報をご入力下さい。
A33: ３．事務取扱者
B34: 書類送付先 | J34: 郵便番号 | P34: ー | AJ34: 法人所在地が初期値として自動入力されます。 法人所在地とは別に書類の送付を希望する場合は上書き修正してください。
J35: 住所 | M35: =IF(M29="","",M29)
B36: 事業所名 | AJ36: ご担当者様の事業所名をご入力下さい。
B37: 担当者 | AJ37: ご担当者様の氏名をご入力下さい。
B38: TEL | O38: ー | X38: ー | AJ38: ご担当者様と連絡がつく電話番号ご入力下さい。
B39: e-mail | AJ39: ご担当者様と連絡がつくe-mailアドレスご入力下さい。
A41: ４．振込先口座 | AJ41: ※ゆうちょ銀行の場合は、公式WEBサイトにて記号番号から振込用の店名・預金種目・口座番号を調べて入力して下さい。
B42: 金融機関名 | T42: 銀行 | X42: ←種類を選択して下さい | AJ42: 金融機関名は、最大1８文字まで表示されます 銀行・信用金庫・信用組合・農協を選択して下さい
B43: 本・支店名 | T43: 支店 | X43: ←種類を選択して下さい (本店・支店・出張所以外の場合は空白を選択) | AJ43: 本・支店名は、最大12文字まで表示されます。 本店・支店・出張所を選択して下さい。（左記３つ以外の場合は空白を選択）
B44: 金融機関コード（4桁） | T44: ←4桁で入力して下さい | AJ44: 預金通帳等に記載されている4桁の金融機関コードを入力してください
B45: 支店コード（3桁） | T45: ←3桁で入力して下さい | AJ45: 預金通帳等に記載されている3桁の支店コードを入力してください
B46: 預金種目 | P46: ←１普通、２当座、４貯蓄、９別段 を選択して下さい | AJ46: 該当の預金種目を選択して下さい
B47: 口座番号 | T47: ←7桁で入力して下さい | AJ47: 口座番号（7桁） ※7桁に満たない場合は、頭に「０」をつけて入力してください
...

Sheet 別記第１号様式_関係書類_就業規則等一覧
A1: 就業規則または給与規程等一覧
F2: =IF(OR(【入力】基本情報シート!L5="",【入力】基本情報シート!O5="",【入力】基本情報シート!S5=""),"","令和"&【入力】基本情報シート!L5&"年"&【入力】基本情報シート!O5&"月"&【入力】基本情報シート!S5&"日")
F3: ``
E4: 法人名称 | F4: =IF(法人名称="","",法人名称)
A5: =" 渋谷区福祉人材支援手当の支給に係る補助事業実施要綱第５条に基づき定めた就業規則または給与規程等を提出します。" -> 渋谷区福祉人材支援手当の支給に係る補助事業実施要綱第５条に基づき定めた就業規則または給与規程等を提出します。
A8: また、支給額について法人独自で支給額未満額を定めた場合のみ、以下の「補助月額」に係る欄に金額を記載します。
A10: ※行が不足する場合は、事務局に連絡をして下さい。 | G10: 単位：円
A11: 就業規則等番号 (対象職員一覧に記載) | B11: 就業規則等名称 | C11: 就業規則等の適用年月日 | D11: 補助基準 月額 | E11: 補助基準 月額（加算額） | F11: 補助月額 （法人独自） | G11: 補助月額 （加算額） （法人独自）
A13: a | D13: =IF(B13<>"",10000,"") | E13: =IF(B13<>"",10000,"")
A14: b | D14: =IF(B14<>"",10000,"") | E14: =IF(B14<>"",10000,"")
A15: c | D15: =IF(B15<>"",10000,"") | E15: =IF(B15<>"",10000,"")
A16: d | D16: =IF(B16<>"",10000,"") | E16: =IF(B16<>"",10000,"")
A17: e | D17: =IF(B17<>"",10000,"") | E17: =IF(B17<>"",10000,"")
A18: f | D18: =IF(B18<>"",10000,"") | E18: =IF(B18<>"",10000,"")
A19: g | D19: =IF(B19<>"",10000,"") | E19: =IF(B19<>"",10000,"")
A20: h | D20: =IF(B20<>"",10000,"") | E20: =IF(B20<>"",10000,"")
A21: i | D21: =IF(B21<>"",10000,"") | E21: =IF(B21<>"",10000,"")
A22: j | D22: =IF(B22<>"",10000,"") | E22: =IF(B22<>"",10000,"")
A23: k | D23: =IF(B23<>"",10000,"") | E23: =IF(B23<>"",10000,"")
A24: l | D24: =IF(B24<>"",10000,"") | E24: =IF(B24<>"",10000,"")
... A27: o | D27: =IF(B27<>"",10000,"") | E27: =IF(B27<>"",10000,"")
A28: 就業規則または給与規程等を定めていない役員（法人代表者含む）および従事者ごとに作成する労働条件通知書により当該 手当の支給を定めている場合は下記のとおり対応します。
A30: また、支給額について法人独自で支給額未満額を定めた場合のみ、以下の「補助月額」に係る欄に金額を記載します。
A32: 就業規則等番号 (対象職員一覧に記載) | B32: 種別 | D32: 支給月額 （円） | E32: 支給月額 (加算額） （円） | F32: 補助月額 （法人独自） | G32: 補助月額 （加算額） （法人独自）
A34: 1 | B34: 役員※就業規則等の添付は不要 | D34: 10000 | E34: 0 | G34: 0
A35: 2 | B35: 個別の労働条件通知書等※対象職員全員分を提出 | D35: 10000 | E35: 10000

Sheet 別記第１号様式別紙_対象者一覧
A2: 令和８年度渋谷区福祉人材支援手当事業補助金交付申請対象者一覧（交付申請） | R2: 別記第１号様式別紙
B3: 法人名称： | C3: =IF(【入力】基本情報シート!J27="","",【入力】基本情報シート!J27)
O4: 手当支給にかかる補助対象額合計額(H) | R4: =SUM(R12:R111) -> 0
N5: 社会保険料雇用主負担額に相当する額(I=H×15%) | R5: =ROUNDUP(R4*0.15,0) -> 0
P6: 補助対象額合計(J=H+I) | R6: =R4+R5 -> 0
O7: 交付申請額(Jを千円未満切捨て) | R7: =ROUNDDOWN((R6),-3) -> 0
L9: A | M9: B | N9: C | O9: D | P9: E | Q9: G | R9: H
A10: No. | B10: 事業所情報 | E10: 対象者情報 | I10: 該当する 就業規則又は 給与規定等一覧 | J10: 役員 （法人代表者含む） | K10: 1. 5年目まで/常勤 2. 5年目まで/非常勤 3. 6年目以降/常勤 4. 6年目以降/非常勤 | L10: 1年目から5年目(60か月目)までの対象者 | O10: 6年目(61か月目)以降の対象者 | R10: 手当支給に係る 補助対象額 (円)
B11: 事業所 指定番号 | C11: 事業種別 | D11: 事業所 名称 | E11: 採用 予定者 | F11: 姓 | G11: 名 | H11: 生年月日 | L11: 申請対象 月数 | M11: 補助基準月額 10,000円 | N11: 補助 月額 【法人独自】 | O11: 申請対象 月数 | P11: 補助基準月額 （加算額含む） 20,000円 | Q11: 補助月額 (加算額含む） 【法人独自】 | T11: 事業種別 | U11: 勤務年数・勤務形態 | V11: 申請対象月数 | W11: 役員
A12: 1 | M12: =IF(J12="〇",IF(ISNUMBER(MATCH(K12,$U$12:$U$15,0)),10000,""),IF(COUNTIF($U$12:$U$13,K12),10000,"")) | N12: =IF(ISNUMBER(M12),IFERROR(IF(VLOOKUP(I12,別記第１号様式_関係書類_就業規則等一覧!$A$13:$G$35,6,FALSE)="","",VLOOKUP(I12,別記第１号様式_関係書類_就業規則等一覧!$A$13:$G$35,6,FALSE)),""),"") | P12: =IF(J12<>"〇",IF(OR(K12=$U$14,K12=$U$15),20000,""),"") | Q12: =IF(ISNUMBER(P12),IFERROR(IF(VLOOKUP(I12,別記第１号様式_関係書類_就業規則等一覧!$A$13:$G$35,7,FALSE)="","",2*VLOOKUP(I12,別記第１号様式_関係書類_就業規則等一覧!$A$13:$G$35,7,FALSE)),""),"") | R12: {=IF(L12<>"", IF(COUNT(M12:N12),L12*MIN(IF(M12:N12<>"",M12:N12)),""), IF(O12<>"", IF(COUNT(P12:Q12),O12*MIN(IF(P12:Q12<>"",P12:Q12)),""), "" ) )} | T12: 1.居宅介護 | U12: 1.5年目まで/常勤 | V12: 1 | W12: 〇
A13: 2 | M13: =IF(J13="〇",IF(ISNUMBER(MATCH(K13,$U$12:$U$15,0)),10000,""),IF(COUNTIF($U$12:$U$13,K13),10000,"")) | N13: =IF(ISNUMBER(M13),IFERROR(IF(VLOOKUP(I13,別記第１号様式_関係書類_就業規則等一覧!$A$13:$G$35,6,FALSE)="","",VLOOKUP(I13,別記第１号様式_関係書類_就業規則等一覧!$A$13:$G$35,6,FALSE)),""),"") | P13: =IF(J13<>"〇",IF(OR(K13=$U$14,K13=$U$15),20000,""),"") | Q13: =IF(ISNUMBER(P13),IFERROR(IF(VLOOKUP(I13,別記第１号様式_関係書類_就業規則等一覧!$A$13:$G$35,7,FALSE)="","",2*VLOOKUP(I13,別記第１号様式_関係書類_就業規則等一覧!$A$13:$G$35,7,FALSE)),""),"") | R13: {=IF(L13<>"", IF(COUNT(M13:N13),L13*MIN(IF(M13:N13<>"",M13:N13)),""), IF(O13<>"", IF(COUNT(P13:Q13),O13*MIN(IF(P13:Q13<>"",P13:Q13)),""), "" ) )} | T13: 2.重度訪問介護 | U13: 2.5年目まで/非常勤 | V13: 2
A14: 3 | M14: =IF(J14="〇",IF(ISNUMBER(MATCH(K14,$U$12:$U$15,0)),10000,""),IF(COUNTIF($U$12:$U$13,K14),10000,"")) | N14: =IF(ISNUMBER(M14),IFERROR(IF(VLOOKUP(I14,別記第１号様式_関係書類_就業規則等一覧!$A$13:$G$35,6,FALSE)="","",VLOOKUP(I14,別記第１号様式_関係書類_就業規則等一覧!$A$13:$G$35,6,FALSE)),""),"") | P14: =IF(J14<>"〇",IF(OR(K14=$U$14,K14=$U$15),20000,""),"") | Q14: =IF(ISNUMBER(P14),IFERROR(IF(VLOOKUP(I14,別記第１号様式_関係書類_就業規則等一覧!$A$13:$G$35,7,FALSE)="","",2*VLOOKUP(I14,別記第１号様式_関係書類_就業規則等一覧!$A$13:$G$35,7,FALSE)),""),"") | R14: {=IF(L14<>"", IF(COUNT(M14:N14),L14*MIN(IF(M14:N14<>"",M14:N14)),""), IF(O14<>"", IF(COUNT(P14:Q14),O14*MIN(IF(P14:Q14<>"",P14:Q14)),""), "" ) )} | T14: 3.同行援護 | U14: 3.6年目以降/常勤 | V14: 3
A15: 4 | M15: =IF(J15="〇",IF(ISNUMBER(MATCH(K15,$U$12:$U$15,0)),10000,""),IF(COUNTIF($U$12:$U$13,K15),10000,"")) | N15: =IF(ISNUMBER(M15),IFERROR(IF(VLOOKUP(I15,別記第１号様式_関係書類_就業規則等一覧!$A$13:$G$35,6,FALSE)="","",VLOOKUP(I15,別記第１号様式_関係書類_就業規則等一覧!$A$13:$G$35,6,FALSE)),""),"") | P15: =IF(J15<>"〇",IF(OR(K15=$U$14,K15=$U$15),20000,""),"") | Q15: =IF(ISNUMBER(P15),IFERROR(IF(VLOOKUP(I15,別記第１号様式_関係書類_就業規則等一覧!$A$13:$G$35,7,FALSE)="","",2*VLOOKUP(I15,別記第１号様式_関係書類_就業規則等一覧!$A$13:$G$35,7,FALSE)),""),"") | R15: {=IF(L15<>"", IF(COUNT(M15:N15),L15*MIN(IF(M15:N15<>"",M15:N15)),""), IF(O15<>"", IF(COUNT(P15:Q15),O15*MIN(IF(P15:Q15<>"",P15:Q15)),""), "" ) )} | T15: 4.行動援護 | U15: 4.6年目以降/非常勤 | V15: 4
A16: 5 | M16: =IF(J16="〇",IF(ISNUMBER(MATCH(K16,$U$12:$U$15,0)),10000,""),IF(COUNTIF($U$12:$U$13,K16),10000,"")) | N16: =IF(ISNUMBER(M16),IFERROR(IF(VLOOKUP(I16,別記第１号様式_関係書類_就業規則等一覧!$A$13:$G$35,6,FALSE)="","",VLOOKUP(I16,別記第１号様式_関係書類_就業規則等一覧!$A$13:$G$35,6,FALSE)),""),"") | P16: =IF(J16<>"〇",IF(OR(K16=$U$14,K16=$U$15),20000,""),"") | Q16: =IF(ISNUMBER(P16),IFERROR(IF(VLOOKUP(I16,別記第１号様式_関係書類_就業規則等一覧!$A$13:$G$35,7,FALSE)="","",2*VLOOKUP(I16,別記第１号様式_関係書類_就業規則等一覧!$A$13:$G$35,7,FALSE)),""),"") | R16: {=IF(L16<>"", IF(COUNT(M16:N16),L16*MIN(IF(M16:N16<>"",M16:N16)),""), IF(O16<>"", IF(COUNT(P16:Q16),O16*MIN(IF(P16:Q16<>"",P16:Q16)),""), "" ) )} | T16: 5.重度障害者等包括支援 | V16: 5
A17: 6 | M17: =IF(J17="〇",IF(ISNUMBER(MATCH(K17,$U$12:$U$15,0)),10000,""),IF(COUNTIF($U$12:$U$13,K17),10000,"")) | N17: =IF(ISNUMBER(M17),IFERROR(IF(VLOOKUP(I17,別記第１号様式_関係書類_就業規則等一覧!$A$13:$G$35,6,FALSE)="","",VLOOKUP(I17,別記第１号様式_関係書類_就業規則等一覧!$A$13:$G$35,6,FALSE)),""),"") | P17: =IF(J17<>"〇",IF(OR(K17=$U$14,K17=$U$15),20000,""),"") | Q17: =IF(ISNUMBER(P17),IFERROR(IF(VLOOKUP(I17,別記第１号様式_関係書類_就業規則等一覧!$A$13:$G$35,7,FALSE)="","",2*VLOOKUP(I17,別記第１号様式_関係書類_就業規則等一覧!$A$13:$G$35,7,FALSE)),""),"") | R17: {=IF(L17<>"", IF(COUNT(M17:N17),L17*MIN(IF(M17:N17<>"",M17:N17)),""), IF(O17<>"", IF(COUNT(P17:Q17),O17*MIN(IF(P17:Q17<>"",P17:Q17)),""), "" ) )} | T17: 6.生活介護 | V17: 6
A18: 7 | M18: =IF(J18="〇",IF(ISNUMBER(MATCH(K18,$U$12:$U$15,0)),10000,""),IF(COUNTIF($U$12:$U$13,K18),10000,"")) | N18: =IF(ISNUMBER(M18),IFERROR(IF(VLOOKUP(I18,別記第１号様式_関係書類_就業規則等一覧!$A$13:$G$35,6,FALSE)="","",VLOOKUP(I18,別記第１号様式_関係書類_就業規則等一覧!$A$13:$G$35,6,FALSE)),""),"") | P18: =IF(J18<>"〇",IF(OR(K18=$U$14,K18=$U$15),20000,""),"") | Q18: =IF(ISNUMBER(P18),IFERROR(IF(VLOOKUP(I18,別記第１号様式_関係書類_就業規則等一覧!$A$13:$G$35,7,FALSE)="","",2*VLOOKUP(I18,別記第１号様式_関係書類_就業規則等一覧!$A$13:$G$35,7,FALSE)),""),"") | R18: {=IF(L18<>"", IF(COUNT(M18:N18),L18*MIN(IF(M18:N18<>"",M18:N18)),""), IF(O18<>"", IF(COUNT(P18:Q18),O18*MIN(IF(P18:Q18<>"",P18:Q18)),""), "" ) )} | T18: 7.施設入所支援 | V18: 7 | X18: =F18&G18&H18
A19: 8 | M19: =IF(J19="〇",IF(ISNUMBER(MATCH(K19,$U$12:$U$15,0)),10000,""),IF(COUNTIF($U$12:$U$13,K19),10000,"")) | N19: =IF(ISNUMBER(M19),IFERROR(IF(VLOOKUP(I19,別記第１号様式_関係書類_就業規則等一覧!$A$13:$G$35,6,FALSE)="","",VLOOKUP(I19,別記第１号様式_関係書類_就業規則等一覧!$A$13:$G$35,6,FALSE)),""),"") | P19: =IF(J19<>"〇",IF(OR(K19=$U$14,K19=$U$15),20000,""),"") | Q19: =IF(ISNUMBER(P19),IFERROR(IF(VLOOKUP(I19,別記第１号様式_関係書類_就業規則等一覧!$A$13:$G$35,7,FALSE)="","",2*VLOOKUP(I19,別記第１号様式_関係書類_就業規則等一覧!$A$13:$G$35,7,FALSE)),""),"") | R19: {=IF(L19<>"", IF(COUNT(M19:N19),L19*MIN(IF(M19:N19<>"",M19:N19)),""), IF(O19<>"", IF(COUNT(P19:Q19),O19*MIN(IF(P19:Q19<>"",P19:Q19)),""), "" ) )} | T19: 8.短期入所 | V19: 8 | X19: =F19&G19&H19
A20: 9 | M20: =IF(J20="〇",IF(ISNUMBER(MATCH(K20,$U$12:$U$15,0)),10000,""),IF(COUNTIF($U$12:$U$13,K20),10000,"")) | N20: =IF(ISNUMBER(M20),IFERROR(IF(VLOOKUP(I20,別記第１号様式_関係書類_就業規則等一覧!$A$13:$G$35,6,FALSE)="","",VLOOKUP(I20,別記第１号様式_関係書類_就業規則等一覧!$A$13:$G$35,6,FALSE)),""),"") | P20: =IF(J20<>"〇",IF(OR(K20=$U$14,K20=$U$15),20000,""),"") | Q20: =IF(ISNUMBER(P20),IFERROR(IF(VLOOKUP(I20,別記第１号様式_関係書類_就業規則等一覧!$A$13:$G$35,7,FALSE)="","",2*VLOOKUP(I20,別記第１号様式_関係書類_就業規則等一覧!$A$13:$G$35,7,FALSE)),""),"") | R20: {=IF(L20<>"", IF(COUNT(M20:N20),L20*MIN(IF(M20:N20<>"",M20:N20)),""), IF(O20<>"", IF(COUNT(P20:Q20),O20*MIN(IF(P20:Q20<>"",P20:Q20)),""), "" ) )} | T20: 9.療養介護 | V20: 9 | X20: =F20&G20&H20
A21: 10 | M21: =IF(J21="〇",IF(ISNUMBER(MATCH(K21,$U$12:$U$15,0)),10000,""),IF(COUNTIF($U$12:$U$13,K21),10000,"")) | N21: =IF(ISNUMBER(M21),IFERROR(IF(VLOOKUP(I21,別記第１号様式_関係書類_就業規則等一覧!$A$13:$G$35,6,FALSE)="","",VLOOKUP(I21,別記第１号様式_関係書類_就業規則等一覧!$A$13:$G$35,6,FALSE)),""),"") | P21: =IF(J21<>"〇",IF(OR(K21=$U$14,K21=$U$15),20000,""),"") | Q21: =IF(ISNUMBER(P21),IFERROR(IF(VLOOKUP(I21,別記第１号様式_関係書類_就業規則等一覧!$A$13:$G$35,7,FALSE)="","",2*VLOOKUP(I21,別記第１号様式_関係書類_就業規則等一覧!$A$13:$G$35,7,FALSE)),""),"") | R21: {=IF(L21<>"", IF(COUNT(M21:N21),L21*MIN(IF(M21:N21<>"",M21:N21)),""), IF(O21<>"", IF(COUNT(P21:Q21),O21*MIN(IF(P21:Q21<>"",P21:Q21)),""), "" ) )} | T21: 10.自立訓練 | V21: 10 | X21: =F21&G21&H21
A22: 11 | M22: =IF(J22="〇",IF(ISNUMBER(MATCH(K22,$U$12:$U$15,0)),10000,""),IF(COUNTIF($U$12:$U$13,K22),10000,"")) | N22: =IF(ISNUMBER(M22),IFERROR(IF(VLOOKUP(I22,別記第１号様式_関係書類_就業規則等一覧!$A$13:$G$35,6,FALSE)="","",VLOOKUP(I22,別記第１号様式_関係書類_就業規則等一覧!$A$13:$G$35,6,FALSE)),""),"") | P22: =IF(J22<>"〇",IF(OR(K22=$U$14,K22=$U$15),20000,""),"") | Q22: =IF(ISNUMBER(P22),IFERROR(IF(VLOOKUP(I22,別記第１号様式_関係書類_就業規則等一覧!$A$13:$G$35,7,FALSE)="","",2*VLOOKUP(I22,別記第１号様式_関係書類_就業規則等一覧!$A$13:$G$35,7,FALSE)),""),"") | R22: {=IF(L22<>"", IF(COUNT(M22:N22),L22*MIN(IF(M22:N22<>"",M22:N22)),""), IF(O22<>"", IF(COUNT(P22:Q22),O22*MIN(IF(P22:Q22<>"",P22:Q22)),""), "" ) )} | T22: 11.就労移行支援 | V22: 11 | X22: =F22&G22&H22
A23: 12 | M23: =IF(J23="〇",IF(ISNUMBER(MATCH(K23,$U$12:$U$15,0)),10000,""),IF(COUNTIF($U$12:$U$13,K23),10000,"")) | N23: =IF(ISNUMBER(M23),IFERROR(IF(VLOOKUP(I23,別記第１号様式_関係書類_就業規則等一覧!$A$13:$G$35,6,FALSE)="","",VLOOKUP(I23,別記第１号様式_関係書類_就業規則等一覧!$A$13:$G$35,6,FALSE)),""),"") | P23: =IF(J23<>"〇",IF(OR(K23=$U$14,K23=$U$15),20000,""),"") | Q23: =IF(ISNUMBER(P23),IFERROR(IF(VLOOKUP(I23,別記第１号様式_関係書類_就業規則等一覧!$A$13:$G$35,7,FALSE)="","",2*VLOOKUP(I23,別記第１号様式_関係書類_就業規則等一覧!$A$13:$G$35,7,FALSE)),""),"") | R23: {=IF(L23<>"", IF(COUNT(M23:N23),L23*MIN(IF(M23:N23<>"",M23:N23)),""), IF(O23<>"", IF(COUNT(P23:Q23),O23*MIN(IF(P23:Q23<>"",P23:Q23)),""), "" ) )} | T23: 12.就労継続支援Ａ型 | V23: 12 | X23: =F23&G23&H23
A24: 13 | M24: =IF(J24="〇",IF(ISNUMBER(MATCH(K24,$U$12:$U$15,0)),10000,""),IF(COUNTIF($U$12:$U$13,K24),10000,"")) | N24: =IF(ISNUMBER(M24),IFERROR(IF(VLOOKUP(I24,別記第１号様式_関係書類_就業規則等一覧!$A$13:$G$35,6,FALSE)="","",VLOOKUP(I24,別記第１号様式_関係書類_就業規則等一覧!$A$13:$G$35,6,FALSE)),""),"") | P24: =IF(J24<>"〇",IF(OR(K24=$U$14,K24=$U$15),20000,""),"") | Q24: =IF(ISNUMBER(P24),IFERROR(IF(VLOOKUP(I24,別記第１号様式_関係書類_就業規則等一覧!$A$13:$G$35,7,FALSE)="","",2*VLOOKUP(I24,別記第１号様式_関係書類_就業規則等一覧!$A$13:$G$35,7,FALSE)),""),"") | R24: {=IF(L24<>"", IF(COUNT(M24:N24),L24*MIN(IF(M24:N24<>"",M24:N24)),""), IF(O24<>"", IF(COUNT(P24:Q24),O24*MIN(IF(P24:Q24<>"",P24:Q24)),""), "" ) )} | T24: 13.就労継続支援Ｂ型 | X24: =F24&G24&H24
A25: 14 | M25: =IF(J25="〇",IF(ISNUMBER(MATCH(K25,$U$12:$U$15,0)),10000,""),IF(COUNTIF($U$12:$U$13,K25),10000,"")) | N25: =IF(ISNUMBER(M25),IFERROR(IF(VLOOKUP(I25,別記第１号様式_関係書類_就業規則等一覧!$A$13:$G$35,6,FALSE)="","",VLOOKUP(I25,別記第１号様式_関係書類_就業規則等一覧!$A$13:$G$35,6,FALSE)),""),"") | P25: =IF(J25<>"〇",IF(OR(K25=$U$14,K25=$U$15),20000,""),"") | Q25: =IF(ISNUMBER(P25),IFERROR(IF(VLOOKUP(I25,別記第１号様式_関係書類_就業規則等一覧!$A$13:$G$35,7,FALSE)="","",2*VLOOKUP(I25,別記第１号様式_関係書類_就業規則等一覧!$A$13:$G$35,7,FALSE)),""),"") | R25: {=IF(L25<>"", IF(COUNT(M25:N25),L25*MIN(IF(M25:N25<>"",M25:N25)),""), IF(O25<>"", IF(COUNT(P25:Q25),O25*MIN(IF(P25:Q25<>"",P25:Q25)),""), "" ) )} | T25: 14.就労定着支援 | X25: =F25&G25&H25
A26: 15 | M26: =IF(J26="〇",IF(ISNUMBER(MATCH(K26,$U$12:$U$15,0)),10000,""),IF(COUNTIF($U$12:$U$13,K26),10000,"")) | N26: =IF(ISNUMBER(M26),IFERROR(IF(VLOOKUP(I26,別記第１号様式_関係書類_就業規則等一覧!$A$13:$G$35,6,FALSE)="","",VLOOKUP(I26,別記第１号様式_関係書類_就業規則等一覧!$A$13:$G$35,6,FALSE)),""),"") | P26: =IF(J26<>"〇",IF(OR(K26=$U$14,K26=$U$15),20000,""),"") | Q26: =IF(ISNUMBER(P26),IFERROR(IF(VLOOKUP(I26,別記第１号様式_関係書類_就業規則等一覧!$A$13:$G$35,7,FALSE)="","",2*VLOOKUP(I26,別記第１号様式_関係書類_就業規則等一覧!$A$13:$G$35,7,FALSE)),""),"") | R26: {=IF(L26<>"", IF(COUNT(M26:N26),L26*MIN(IF(M26:N26<>"",M26:N26)),""), IF(O26<>"", IF(COUNT(P26:Q26),O26*MIN(IF(P26:Q26<>"",P26:Q26)),""), "" ) )} | T26: 15.就労選択支援 | X26: =F26&G26&H26
A27: 16 | M27: =IF(J27="〇",IF(ISNUMBER(MATCH(K27,$U$12:$U$15,0)),10000,""),IF(COUNTIF($U$12:$U$13,K27),10000,"")) | N27: =IF(ISNUMBER(M27),IFERROR(IF(VLOOKUP(I27,別記第１号様式_関係書類_就業規則等一覧!$A$13:$G$35,6,FALSE)="","",VLOOKUP(I27,別記第１号様式_関係書類_就業規則等一覧!$A$13:$G$35,6,FALSE)),""),"") | P27: =IF(J27<>"〇",IF(OR(K27=$U$14,K27=$U$15),20000,""),"") | Q27: =IF(ISNUMBER(P27),IFERROR(IF(VLOOKUP(I27,別記第１号様式_関係書類_就業規則等一覧!$A$13:$G$35,7,FALSE)="","",2*VLOOKUP(I27,別記第１号様式_関係書類_就業規則等一覧!$A$13:$G$35,7,FALSE)),""),"") | R27: {=IF(L27<>"", IF(COUNT(M27:N27),L27*MIN(IF(M27:N27<>"",M27:N27)),""), IF(O27<>"", IF(COUNT(P27:Q27),O27*MIN(IF(P27:Q27<>"",P27:Q27)),""), "" ) )} | T27: 16.自立生活援助 | X27: =F27&G27&H27
A28: 17 | M28: =IF(J28="〇",IF(ISNUMBER(MATCH(K28,$U$12:$U$15,0)),10000,""),IF(COUNTIF($U$12:$U$13,K28),10000,"")) | N28: =IF(ISNUMBER(M28),IFERROR(IF(VLOOKUP(I28,別記第１号様式_関係書類_就業規則等一覧!$A$13:$G$35,6,FALSE)="","",VLOOKUP(I28,別記第１号様式_関係書類_就業規則等一覧!$A$13:$G$35,6,FALSE)),""),"") | P28: =IF(J28<>"〇",IF(OR(K28=$U$14,K28=$U$15),20000,""),"") | Q28: =IF(ISNUMBER(P28),IFERROR(IF(VLOOKUP(I28,別記第１号様式_関係書類_就業規則等一覧!$A$13:$G$35,7,FALSE)="","",2*VLOOKUP(I28,別記第１号様式_関係書類_就業規則等一覧!$A$13:$G$35,7,FALSE)),""),"") | R28: {=IF(L28<>"", IF(COUNT(M28:N28),L28*MIN(IF(M28:N28<>"",M28:N28)),""), IF(O28<>"", IF(COUNT(P28:Q28),O28*MIN(IF(P28:Q28<>"",P28:Q28)),""), "" ) )} | T28: 17.共同生活援助 | X28: =F28&G28&H28
A29: 18 | M29: =IF(J29="〇",IF(ISNUMBER(MATCH(K29,$U$12:$U$15,0)),10000,""),IF(COUNTIF($U$12:$U$13,K29),10000,"")) | N29: =IF(ISNUMBER(M29),IFERROR(IF(VLOOKUP(I29,別記第１号様式_関係書類_就業規則等一覧!$A$13:$G$35,6,FALSE)="","",VLOOKUP(I29,別記第１号様式_関係書類_就業規則等一覧!$A$13:$G$35,6,FALSE)),""),"") | P29: =IF(J29<>"〇",IF(OR(K29=$U$14,K29=$U$15),20000,""),"") | Q29: =IF(ISNUMBER(P29),IFERROR(IF(VLOOKUP(I29,別記第１号様式_関係書類_就業規則等一覧!$A$13:$G$35,7,FALSE)="","",2*VLOOKUP(I29,別記第１号様式_関係書類_就業規則等一覧!$A$13:$G$35,7,FALSE)),""),"") | R29: {=IF(L29<>"", IF(COUNT(M29:N29),L29*MIN(IF(M29:N29<>"",M29:N29)),""), IF(O29<>"", IF(COUNT(P29:Q29),O29*MIN(IF(P29:Q29<>"",P29:Q29)),""), "" ) )} | T29: 18.児童発達支援 | X29: =F29&G29&H29
A30: 19 | M30: =IF(J30="〇",IF(ISNUMBER(MATCH(K30,$U$12:$U$15,0)),10000,""),IF(COUNTIF($U$12:$U$13,K30),10000,"")) | N30: =IF(ISNUMBER(M30),IFERROR(IF(VLOOKUP(I30,別記第１号様式_関係書類_就業規則等一覧!$A$13:$G$35,6,FALSE)="","",VLOOKUP(I30,別記第１号様式_関係書類_就業規則等一覧!$A$13:$G$35,6,FALSE)),""),"") | P30: =IF(J30<>"〇",IF(OR(K30=$U$14,K30=$U$15),20000,""),"") | Q30: =IF(ISNUMBER(P30),IFERROR(IF(VLOOKUP(I30,別記第１号様式_関係書類_就業規則等一覧!$A$13:$G$35,7,FALSE)="","",2*VLOOKUP(I30,別記第１号様式_関係書類_就業規則等一覧!$A$13:$G$35,7,FALSE)),""),"") | R30: {=IF(L30<>"", IF(COUNT(M30:N30),L30*MIN(IF(M30:N30<>"",M30:N30)),""), IF(O30<>"", IF(COUNT(P30:Q30),O30*MIN(IF(P30:Q30<>"",P30:Q30)),""), "" ) )} | T30: 19.医療型児童発達支援 | X30: =F30&G30&H30
A31: 20 | M31: =IF(J31="〇",IF(ISNUMBER(MATCH(K31,$U$12:$U$15,0)),10000,""),IF(COUNTIF($U$12:$U$13,K31),10000,"")) | N31: =IF(ISNUMBER(M31),IFERROR(IF(VLOOKUP(I31,別記第１号様式_関係書類_就業規則等一覧!$A$13:$G$35,6,FALSE)="","",VLOOKUP(I31,別記第１号様式_関係書類_就業規則等一覧!$A$13:$G$35,6,FALSE)),""),"") | P31: =IF(J31<>"〇",IF(OR(K31=$U$14,K31=$U$15),20000,""),"") | Q31: =IF(ISNUMBER(P31),IFERROR(IF(VLOOKUP(I31,別記第１号様式_関係書類_就業規則等一覧!$A$13:$G$35,7,FALSE)="","",2*VLOOKUP(I31,別記第１号様式_関係書類_就業規則等一覧!$A$13:$G$35,7,FALSE)),""),"") | R31: {=IF(L31<>"", IF(COUNT(M31:N31),L31*MIN(IF(M31:N31<>"",M31:N31)),""), IF(O31<>"", IF(COUNT(P31:Q31),O31*MIN(IF(P31:Q31<>"",P31:Q31)),""), "" ) )} | T31: 20.放課後等デイサービス | X31: =F31&G31&H31
A32: 21 | M32: =IF(J32="〇",IF(ISNUMBER(MATCH(K32,$U$12:$U$15,0)),10000,""),IF(COUNTIF($U$12:$U$13,K32),10000,"")) | N32: =IF(ISNUMBER(M32),IFERROR(IF(VLOOKUP(I32,別記第１号様式_関係書類_就業規則等一覧!$A$13:$G$35,6,FALSE)="","",VLOOKUP(I32,別記第１号様式_関係書類_就業規則等一覧!$A$13:$G$35,6,FALSE)),""),"") | P32: =IF(J32<>"〇",IF(OR(K32=$U$14,K32=$U$15),20000,""),"") | Q32: =IF(ISNUMBER(P32),IFERROR(IF(VLOOKUP(I32,別記第１号様式_関係書類_就業規則等一覧!$A$13:$G$35,7,FALSE)="","",2*VLOOKUP(I32,別記第１号様式_関係書類_就業規則等一覧!$A$13:$G$35,7,FALSE)),""),"") | R32: {=IF(L32<>"", IF(COUNT(M32:N32),L32*MIN(IF(M32:N32<>"",M32:N32)),""), IF(O32<>"", IF(COUNT(P32:Q32),O32*MIN(IF(P32:Q32<>"",P32:Q32)),""), "" ) )} | T32: 21.居宅訪問型児童発達支援 | X32: =F32&G32&H32
A33: 22 | M33: =IF(J33="〇",IF(ISNUMBER(MATCH(K33,$U$12:$U$15,0)),10000,""),IF(COUNTIF($U$12:$U$13,K33),10000,"")) | N33: =IF(ISNUMBER(M33),IFERROR(IF(VLOOKUP(I33,別記第１号様式_関係書類_就業規則等一覧!$A$13:$G$35,6,FALSE)="","",VLOOKUP(I33,別記第１号様式_関係書類_就業規則等一覧!$A$13:$G$35,6,FALSE)),""),"") | P33: =IF(J33<>"〇",IF(OR(K33=$U$14,K33=$U$15),20000,""),"") | Q33: =IF(ISNUMBER(P33),IFERROR(IF(VLOOKUP(I33,別記第１号様式_関係書類_就業規則等一覧!$A$13:$G$35,7,FALSE)="","",2*VLOOKUP(I33,別記第１号様式_関係書類_就業規則等一覧!$A$13:$G$35,7,FALSE)),""),"") | R33: {=IF(L33<>"", IF(COUNT(M33:N33),L33*MIN(IF(M33:N33<>"",M33:N33)),""), IF(O33<>"", IF(COUNT(P33:Q33),O33*MIN(IF(P33:Q33<>"",P33:Q33)),""), "" ) )} | T33: 22.保育所等訪問支援 | X33: =F33&G33&H33
A34: 23 | M34: =IF(J34="〇",IF(ISNUMBER(MATCH(K34,$U$12:$U$15,0)),10000,""),IF(COUNTIF($U$12:$U$13,K34),10000,"")) | N34: =IF(ISNUMBER(M34),IFERROR(IF(VLOOKUP(I34,別記第１号様式_関係書類_就業規則等一覧!$A$13:$G$35,6,FALSE)="","",VLOOKUP(I34,別記第１号様式_関係書類_就業規則等一覧!$A$13:$G$35,6,FALSE)),""),"") | P34: =IF(J34<>"〇",IF(OR(K34=$U$14,K34=$U$15),20000,""),"") | Q34: =IF(ISNUMBER(P34),IFERROR(IF(VLOOKUP(I34,別記第１号様式_関係書類_就業規則等一覧!$A$13:$G$35,7,FALSE)="","",2*VLOOKUP(I34,別記第１号様式_関係書類_就業規則等一覧!$A$13:$G$35,7,FALSE)),""),"") | R34: {=IF(L34<>"", IF(COUNT(M34:N34),L34*MIN(IF(M34:N34<>"",M34:N34)),""), IF(O34<>"", IF(COUNT(P34:Q34),O34*MIN(IF(P34:Q34<>"",P34:Q34)),""), "" ) )} | T34: 23.福祉型障害児入所施設 | X34: =F34&G34&H34
A35: 24 | M35: =IF(J35="〇",IF(ISNUMBER(MATCH(K35,$U$12:$U$15,0)),10000,""),IF(COUNTIF($U$12:$U$13,K35),10000,"")) | N35: =IF(ISNUMBER(M35),IFERROR(IF(VLOOKUP(I35,別記第１号様式_関係書類_就業規則等一覧!$A$13:$G$35,6,FALSE)="","",VLOOKUP(I35,別記第１号様式_関係書類_就業規則等一覧!$A$13:$G$35,6,FALSE)),""),"") | P35: =IF(J35<>"〇",IF(OR(K35=$U$14,K35=$U$15),20000,""),"") | Q35: =IF(ISNUMBER(P35),IFERROR(IF(VLOOKUP(I35,別記第１号様式_関係書類_就業規則等一覧!$A$13:$G$35,7,FALSE)="","",2*VLOOKUP(I35,別記第１号様式_関係書類_就業規則等一覧!$A$13:$G$35,7,FALSE)),""),"") | R35: {=IF(L35<>"", IF(COUNT(M35:N35),L35*MIN(IF(M35:N35<>"",M35:N35)),""), IF(O35<>"", IF(COUNT(P35:Q35),O35*MIN(IF(P35:Q35<>"",P35:Q35)),""), "" ) )} | T35: 24.医療型障害児入所施設 | X35: =F35&G35&H35
... A42: 31 | M42: =IF(J42="〇",IF(ISNUMBER(MATCH(K42,$U$12:$U$15,0)),10000,""),IF(COUNTIF($U$12:$U$13,K42),10000,"")) | N42: =IF(ISNUMBER(M42),IFERROR(IF(VLOOKUP(I42,別記第１号様式_関係書類_就業規則等一覧!$A$13:$G$35,6,FALSE)="","",VLOOKUP(I42,別記第１号様式_関係書類_就業規則等一覧!$A$13:$G$35,6,FALSE)),""),"") | P42: =IF(J42<>"〇",IF(OR(K42=$U$14,K42=$U$15),20000,""),"") | Q42: =IF(ISNUMBER(P42),IFERROR(IF(VLOOKUP(I42,別記第１号様式_関係書類_就業規則等一覧!$A$13:$G$35,7,FALSE)="","",2*VLOOKUP(I42,別記第１号様式_関係書類_就業規則等一覧!$A$13:$G$35,7,FALSE)),""),"") | R42: {=IF(L42<>"", IF(COUNT(M42:N42),L42*MIN(IF(M42:N42<>"",M42:N42)),""), IF(O42<>"", IF(COUNT(P42:Q42),O42*MIN(IF(P42:Q42<>"",P42:Q42)),""), "" ) )} | T42: 31.地域生活支援 | X42: =F42&G42&H42
A43: 32 | M43: =IF(J43="〇",IF(ISNUMBER(MATCH(K43,$U$12:$U$15,0)),10000,""),IF(COUNTIF($U$12:$U$13,K43),10000,"")) | N43: =IF(ISNUMBER(M43),IFERROR(IF(VLOOKUP(I43,別記第１号様式_関係書類_就業規則等一覧!$A$13:$G$35,6,FALSE)="","",VLOOKUP(I43,別記第１号様式_関係書類_就業規則等一覧!$A$13:$G$35,6,FALSE)),""),"") | P43: =IF(J43<>"〇",IF(OR(K43=$U$14,K43=$U$15),20000,""),"") | Q43: =IF(ISNUMBER(P43),IFERROR(IF(VLOOKUP(I43,別記第１号様式_関係書類_就業規則等一覧!$A$13:$G$35,7,FALSE)="","",2*VLOOKUP(I43,別記第１号様式_関係書類_就業規則等一覧!$A$13:$G$35,7,FALSE)),""),"") | R43: {=IF(L43<>"", IF(COUNT(M43:N43),L43*MIN(IF(M43:N43<>"",M43:N43)),""), IF(O43<>"", IF(COUNT(P43:Q43),O43*MIN(IF(P43:Q43<>"",P43:Q43)),""), "" ) )} | X43: =F43&G43&H43
A44: 33 | M44: =IF(J44="〇",IF(ISNUMBER(MATCH(K44,$U$12:$U$15,0)),10000,""),IF(COUNTIF($U$12:$U$13,K44),10000,"")) | N44: =IF(ISNUMBER(M44),IFERROR(IF(VLOOKUP(I44,別記第１号様式_関係書類_就業規則等一覧!$A$13:$G$35,6,FALSE)="","",VLOOKUP(I44,別記第１号様式_関係書類_就業規則等一覧!$A$13:$G$35,6,FALSE)),""),"") | P44: =IF(J44<>"〇",IF(OR(K44=$U$14,K44=$U$15),20000,""),"") | Q44: =IF(ISNUMBER(P44),IFERROR(IF(VLOOKUP(I44,別記第１号様式_関係書類_就業規則等一覧!$A$13:$G$35,7,FALSE)="","",2*VLOOKUP(I44,別記第１号様式_関係書類_就業規則等一覧!$A$13:$G$35,7,FALSE)),""),"") | R44: {=IF(L44<>"", IF(COUNT(M44:N44),L44*MIN(IF(M44:N44<>"",M44:N44)),""), IF(O44<>"", IF(COUNT(P44:Q44),O44*MIN(IF(P44:Q44<>"",P44:Q44)),""), "" ) )} | X44: =F44&G44&H44
A45: 34 | M45: =IF(J45="〇",IF(ISNUMBER(MATCH(K45,$U$12:$U$15,0)),10000,""),IF(COUNTIF($U$12:$U$13,K45),10000,"")) | N45: =IF(ISNUMBER(M45),IFERROR(IF(VLOOKUP(I45,別記第１号様式_関係書類_就業規則等一覧!$A$13:$G$35,6,FALSE)="","",VLOOKUP(I45,別記第１号様式_関係書類_就業規則等一覧!$A$13:$G$35,6,FALSE)),""),"") | P45: =IF(J45<>"〇",IF(OR(K45=$U$14,K45=$U$15),20000,""),"") | Q45: =IF(ISNUMBER(P45),IFERROR(IF(VLOOKUP(I45,別記第１号様式_関係書類_就業規則等一覧!$A$13:$G$35,7,FALSE)="","",2*VLOOKUP(I45,別記第１号様式_関係書類_就業規則等一覧!$A$13:$G$35,7,FALSE)),""),"") | R45: {=IF(L45<>"", IF(COUNT(M45:N45),L45*MIN(IF(M45:N45<>"",M45:N45)),""), IF(O45<>"", IF(COUNT(P45:Q45),O45*MIN(IF(P45:Q45<>"",P45:Q45)),""), "" ) )} | X45: =F45&G45&H45
A46: 35 | M46: =IF(J46="〇",IF(ISNUMBER(MATCH(K46,$U$12:$U$15,0)),10000,""),IF(COUNTIF($U$12:$U$13,K46),10000,"")) | N46: =IF(ISNUMBER(M46),IFERROR(IF(VLOOKUP(I46,別記第１号様式_関係書類_就業規則等一覧!$A$13:$G$35,6,FALSE)="","",VLOOKUP(I46,別記第１号様式_関係書類_就業規則等一覧!$A$13:$G$35,6,FALSE)),""),"") | P46: =IF(J46<>"〇",IF(OR(K46=$U$14,K46=$U$15),20000,""),"") | Q46: =IF(ISNUMBER(P46),IFERROR(IF(VLOOKUP(I46,別記第１号様式_関係書類_就業規則等一覧!$A$13:$G$35,7,FALSE)="","",2*VLOOKUP(I46,別記第１号様式_関係書類_就業規則等一覧!$A$13:$G$35,7,FALSE)),""),"") | R46: {=IF(L46<>"", IF(COUNT(M46:N46),L46*MIN(IF(M46:N46<>"",M46:N46)),""), IF(O46<>"", IF(COUNT(P46:Q46),O46*MIN(IF(P46:Q46<>"",P46:Q46)),""), "" ) )} | X46: =F46&G46&H46
A47: 36 | M47: =IF(J47="〇",IF(ISNUMBER(MATCH(K47,$U$12:$U$15,0)),10000,""),IF(COUNTIF($U$12:$U$13,K47),10000,"")) | N47: =IF(ISNUMBER(M47),IFERROR(IF(VLOOKUP(I47,別記第１号様式_関係書類_就業規則等一覧!$A$13:$G$35,6,FALSE)="","",VLOOKUP(I47,別記第１号様式_関係書類_就業規則等一覧!$A$13:$G$35,6,FALSE)),""),"") | P47: =IF(J47<>"〇",IF(OR(K47=$U$14,K47=$U$15),20000,""),"") | Q47: =IF(ISNUMBER(P47),IFERROR(IF(VLOOKUP(I47,別記第１号様式_関係書類_就業規則等一覧!$A$13:$G$35,7,FALSE)="","",2*VLOOKUP(I47,別記第１号様式_関係書類_就業規則等一覧!$A$13:$G$35,7,FALSE)),""),"") | R47: {=IF(L47<>"", IF(COUNT(M47:N47),L47*MIN(IF(M47:N47<>"",M47:N47)),""), IF(O47<>"", IF(COUNT(P47:Q47),O47*MIN(IF(P47:Q47<>"",P47:Q47)),""), "" ) )} | X47: =F47&G47&H47
A48: 37 | M48: =IF(J48="〇",IF(ISNUMBER(MATCH(K48,$U$12:$U$15,0)),10000,""),IF(COUNTIF($U$12:$U$13,K48),10000,"")) | N48: =IF(ISNUMBER(M48),IFERROR(IF(VLOOKUP(I48,別記第１号様式_関係書類_就業規則等一覧!$A$13:$G$35,6,FALSE)="","",VLOOKUP(I48,別記第１号様式_関係書類_就業規則等一覧!$A$13:$G$35,6,FALSE)),""),"") | P48: =IF(J48<>"〇",IF(OR(K48=$U$14,K48=$U$15),20000,""),"") | Q48: =IF(ISNUMBER(P48),IFERROR(IF(VLOOKUP(I48,別記第１号様式_関係書類_就業規則等一覧!$A$13:$G$35,7,FALSE)="","",2*VLOOKUP(I48,別記第１号様式_関係書類_就業規則等一覧!$A$13:$G$35,7,FALSE)),""),"") | R48: {=IF(L48<>"", IF(COUNT(M48:N48),L48*MIN(IF(M48:N48<>"",M48:N48)),""), IF(O48<>"", IF(COUNT(P48:Q48),O48*MIN(IF(P48:Q48<>"",P48:Q48)),""), "" ) )} | X48: =F48&G48&H48
...

Sheet 別記第１号様式_関係書類_事業所別一覧
A1: 令和8年度渋谷区福祉人材支援手当事業補助金交付申請書 事業所別補助対象額一覧
J3: 法人名称： | K3: =IF(【入力】基本情報シート!J27="","",【入力】基本情報シート!J27)
A6: No | B6: ※作業用※ 配列数式は編集後はCtrl+Shift+Enter | C6: 事業所 指定番号 | D6: 事業種別 | E6: 事業所名称 | F6: 事業所ごとの 補助対象額 | G6: 事業所ごとの 交付申請額 | H6: 従事者総数 | I6: 採用予定者 | J6: 役員 | K6: 1.5年目まで/常勤 | L6: 2.5年目まで/非常勤 | M6: 3.6年目以降/常勤 | N6: 4.6年目以降/非常勤
A7: 1 | B7: =IF(別記第１号様式別紙_対象者一覧!B12="","",別記第１号様式別紙_対象者一覧!B12) | C7: =IF(B7="","",VLOOKUP($B7,別記第１号様式別紙_対象者一覧!$B$12:$P$112,1,FALSE)) | D7: =IF(B7="","",IFERROR(VLOOKUP($B7,別記第１号様式別紙_対象者一覧!$B$12:$Q$112,2,FALSE),"")) | E7: =IF(B7="","",VLOOKUP($B7,別記第１号様式別紙_対象者一覧!$B$12:$P$112,3,FALSE)) | F7: =IF(B7="","",SUMIF(別記第１号様式別紙_対象者一覧!$B$12:$B$112,B7,別記第１号様式別紙_対象者一覧!$R$12:$R$112)*1.15) | G7: =F7 | H7: =IF(B7="","",COUNTIF(別記第１号様式別紙_対象者一覧!$B$12:$B$112,B7)) | I7: =IF(B7="","",COUNTIFS(別記第１号様式別紙_対象者一覧!$B$12:$B$111,B7,別記第１号様式別紙_対象者一覧!$E$12:$E$111,"〇")) | J7: =IF(C7="","",COUNTIFS(別記第１号様式別紙_対象者一覧!$B$12:$B$111,C7,別記第１号様式別紙_対象者一覧!$J$12:$J$111,"〇")) | K7: =IF(B7="","",COUNTIFS(別記第１号様式別紙_対象者一覧!$B$12:$B$112,B7,別記第１号様式別紙_対象者一覧!$K$12:$K$112,$K$6)) | L7: =IF(B7="","",COUNTIFS(別記第１号様式別紙_対象者一覧!$B$12:$B$112,B7,別記第１号様式別紙_対象者一覧!$K$12:$K$112,$L$6)) | M7: =IF(B7="","",COUNTIFS(別記第１号様式別紙_対象者一覧!$B$12:$B$112,B7,別記第１号様式別紙_対象者一覧!$K$12:$K$112,$M$6)) | N7: =IF(E7="","",COUNTIFS(別記第１号様式別紙_対象者一覧!$B$12:$B$112,B7,別記第１号様式別紙_対象者一覧!$K$12:$K$112,$N$6))
A8: 2 | B8: {=IFERROR(IF(INDEX(別記第１号様式別紙_対象者一覧!$B$13:$B$112,MATCH(0,COUNTIF(B$7:B7,別記第１号様式別紙_対象者一覧!$B$13:$B$112),0))=0,"",INDEX(別記第１号様式別紙_対象者一覧!$B$13:$B$112,MATCH(0,COUNTIF(B$7:B7,別記第１号様式別紙_対象者一覧!$B$13:$B$112),0))),"")} | C8: =IF(B8="","",VLOOKUP($B8,別記第１号様式別紙_対象者一覧!$B$12:$P$112,1,FALSE)) | D8: =IF(B8="","",IFERROR(VLOOKUP($B8,別記第１号様式別紙_対象者一覧!$B$12:$Q$112,2,FALSE),"")) | E8: =IF(B8="","",VLOOKUP($B8,別記第１号様式別紙_対象者一覧!$B$12:$P$112,3,FALSE)) | F8: =IF(B8="","",SUMIF(別記第１号様式別紙_対象者一覧!$B$12:$B$112,B8,別記第１号様式別紙_対象者一覧!$R$12:$R$112)*1.15) | G8: =F8 | H8: =IF(B8="","",COUNTIF(別記第１号様式別紙_対象者一覧!$B$12:$B$112,B8)) | I8: =IF(B8="","",COUNTIFS(別記第１号様式別紙_対象者一覧!$B$12:$B$111,B8,別記第１号様式別紙_対象者一覧!$E$12:$E$111,"〇")) | J8: =IF(C8="","",COUNTIFS(別記第１号様式別紙_対象者一覧!$B$12:$B$111,C8,別記第１号様式別紙_対象者一覧!$J$12:$J$111,"〇")) | K8: =IF(B8="","",COUNTIFS(別記第１号様式別紙_対象者一覧!$B$12:$B$112,B8,別記第１号様式別紙_対象者一覧!$K$12:$K$112,$K$6)) | L8: =IF(B8="","",COUNTIFS(別記第１号様式別紙_対象者一覧!$B$12:$B$112,B8,別記第１号様式別紙_対象者一覧!$K$12:$K$112,$L$6)) | M8: =IF(B8="","",COUNTIFS(別記第１号様式別紙_対象者一覧!$B$12:$B$112,B8,別記第１号様式別紙_対象者一覧!$K$12:$K$112,$M$6)) | N8: =IF(E8="","",COUNTIFS(別記第１号様式別紙_対象者一覧!$B$12:$B$112,B8,別記第１号様式別紙_対象者一覧!$K$12:$K$112,$N$6))
A9: 3 | B9: {=IFERROR(IF(INDEX(別記第１号様式別紙_対象者一覧!$B$13:$B$112,MATCH(0,COUNTIF(B$7:B8,別記第１号様式別紙_対象者一覧!$B$13:$B$112),0))=0,"",INDEX(別記第１号様式別紙_対象者一覧!$B$13:$B$112,MATCH(0,COUNTIF(B$7:B8,別記第１号様式別紙_対象者一覧!$B$13:$B$112),0))),"")} | C9: =IF(B9="","",VLOOKUP($B9,別記第１号様式別紙_対象者一覧!$B$12:$P$112,1,FALSE)) | D9: =IF(B9="","",IFERROR(VLOOKUP($B9,別記第１号様式別紙_対象者一覧!$B$12:$Q$112,2,FALSE),"")) | E9: =IF(B9="","",VLOOKUP($B9,別記第１号様式別紙_対象者一覧!$B$12:$P$112,3,FALSE)) | F9: =IF(B9="","",SUMIF(別記第１号様式別紙_対象者一覧!$B$12:$B$112,B9,別記第１号様式別紙_対象者一覧!$R$12:$R$112)*1.15) | G9: =F9 | H9: =IF(B9="","",COUNTIF(別記第１号様式別紙_対象者一覧!$B$12:$B$112,B9)) | I9: =IF(B9="","",COUNTIFS(別記第１号様式別紙_対象者一覧!$B$12:$B$111,B9,別記第１号様式別紙_対象者一覧!$E$12:$E$111,"〇")) | J9: =IF(C9="","",COUNTIFS(別記第１号様式別紙_対象者一覧!$B$12:$B$111,C9,別記第１号様式別紙_対象者一覧!$J$12:$J$111,"〇")) | K9: =IF(B9="","",COUNTIFS(別記第１号様式別紙_対象者一覧!$B$12:$B$112,B9,別記第１号様式別紙_対象者一覧!$K$12:$K$112,$K$6)) | L9: =IF(B9="","",COUNTIFS(別記第１号様式別紙_対象者一覧!$B$12:$B$112,B9,別記第１号様式別紙_対象者一覧!$K$12:$K$112,$L$6)) | M9: =IF(B9="","",COUNTIFS(別記第１号様式別紙_対象者一覧!$B$12:$B$112,B9,別記第１号様式別紙_対象者一覧!$K$12:$K$112,$M$6)) | N9: =IF(E9="","",COUNTIFS(別記第１号様式別紙_対象者一覧!$B$12:$B$112,B9,別記第１号様式別紙_対象者一覧!$K$12:$K$112,$N$6))
A10: 4 | B10: {=IFERROR(IF(INDEX(別記第１号様式別紙_対象者一覧!$B$13:$B$112,MATCH(0,COUNTIF(B$7:B9,別記第１号様式別紙_対象者一覧!$B$13:$B$112),0))=0,"",INDEX(別記第１号様式別紙_対象者一覧!$B$13:$B$112,MATCH(0,COUNTIF(B$7:B9,別記第１号様式別紙_対象者一覧!$B$13:$B$112),0))),"")} | C10: =IF(B10="","",VLOOKUP($B10,別記第１号様式別紙_対象者一覧!$B$12:$P$112,1,FALSE)) | D10: =IF(B10="","",IFERROR(VLOOKUP($B10,別記第１号様式別紙_対象者一覧!$B$12:$Q$112,2,FALSE),"")) | E10: =IF(B10="","",VLOOKUP($B10,別記第１号様式別紙_対象者一覧!$B$12:$P$112,3,FALSE)) | F10: =IF(B10="","",SUMIF(別記第１号様式別紙_対象者一覧!$B$12:$B$112,B10,別記第１号様式別紙_対象者一覧!$R$12:$R$112)*1.15) | G10: =F10 | H10: =IF(B10="","",COUNTIF(別記第１号様式別紙_対象者一覧!$B$12:$B$112,B10)) | I10: =IF(B10="","",COUNTIFS(別記第１号様式別紙_対象者一覧!$B$12:$B$111,B10,別記第１号様式別紙_対象者一覧!$E$12:$E$111,"〇")) | J10: =IF(C10="","",COUNTIFS(別記第１号様式別紙_対象者一覧!$B$12:$B$111,C10,別記第１号様式別紙_対象者一覧!$J$12:$J$111,"〇")) | K10: =IF(B10="","",COUNTIFS(別記第１号様式別紙_対象者一覧!$B$12:$B$112,B10,別記第１号様式別紙_対象者一覧!$K$12:$K$112,$K$6)) | L10: =IF(B10="","",COUNTIFS(別記第１号様式別紙_対象者一覧!$B$12:$B$112,B10,別記第１号様式別紙_対象者一覧!$K$12:$K$112,$L$6)) | M10: =IF(B10="","",COUNTIFS(別記第１号様式別紙_対象者一覧!$B$12:$B$112,B10,別記第１号様式別紙_対象者一覧!$K$12:$K$112,$M$6)) | N10: =IF(E10="","",COUNTIFS(別記第１号様式別紙_対象者一覧!$B$12:$B$112,B10,別記第１号様式別紙_対象者一覧!$K$12:$K$112,$N$6))
A11: 5 | B11: {=IFERROR(IF(INDEX(別記第１号様式別紙_対象者一覧!$B$13:$B$112,MATCH(0,COUNTIF(B$7:B10,別記第１号様式別紙_対象者一覧!$B$13:$B$112),0))=0,"",INDEX(別記第１号様式別紙_対象者一覧!$B$13:$B$112,MATCH(0,COUNTIF(B$7:B10,別記第１号様式別紙_対象者一覧!$B$13:$B$112),0))),"")} | C11: =IF(B11="","",VLOOKUP($B11,別記第１号様式別紙_対象者一覧!$B$12:$P$112,1,FALSE)) | D11: =IF(B11="","",IFERROR(VLOOKUP($B11,別記第１号様式別紙_対象者一覧!$B$12:$Q$112,2,FALSE),"")) | E11: =IF(B11="","",VLOOKUP($B11,別記第１号様式別紙_対象者一覧!$B$12:$P$112,3,FALSE)) | F11: =IF(B11="","",SUMIF(別記第１号様式別紙_対象者一覧!$B$12:$B$112,B11,別記第１号様式別紙_対象者一覧!$R$12:$R$112)*1.15) | G11: =F11 | H11: =IF(B11="","",COUNTIF(別記第１号様式別紙_対象者一覧!$B$12:$B$112,B11)) | I11: =IF(B11="","",COUNTIFS(別記第１号様式別紙_対象者一覧!$B$12:$B$111,B11,別記第１号様式別紙_対象者一覧!$E$12:$E$111,"〇")) | J11: =IF(C11="","",COUNTIFS(別記第１号様式別紙_対象者一覧!$B$12:$B$111,C11,別記第１号様式別紙_対象者一覧!$J$12:$J$111,"〇")) | K11: =IF(B11="","",COUNTIFS(別記第１号様式別紙_対象者一覧!$B$12:$B$112,B11,別記第１号様式別紙_対象者一覧!$K$12:$K$112,$K$6)) | L11: =IF(B11="","",COUNTIFS(別記第１号様式別紙_対象者一覧!$B$12:$B$112,B11,別記第１号様式別紙_対象者一覧!$K$12:$K$112,$L$6)) | M11: =IF(B11="","",COUNTIFS(別記第１号様式別紙_対象者一覧!$B$12:$B$112,B11,別記第１号様式別紙_対象者一覧!$K$12:$K$112,$M$6)) | N11: =IF(E11="","",COUNTIFS(別記第１号様式別紙_対象者一覧!$B$12:$B$112,B11,別記第１号様式別紙_対象者一覧!$K$12:$K$112,$N$6))
A12: 6 | B12: {=IFERROR(IF(INDEX(別記第１号様式別紙_対象者一覧!$B$13:$B$112,MATCH(0,COUNTIF(B$7:B11,別記第１号様式別紙_対象者一覧!$B$13:$B$112),0))=0,"",INDEX(別記第１号様式別紙_対象者一覧!$B$13:$B$112,MATCH(0,COUNTIF(B$7:B11,別記第１号様式別紙_対象者一覧!$B$13:$B$112),0))),"")} | C12: =IF(B12="","",VLOOKUP($B12,別記第１号様式別紙_対象者一覧!$B$12:$P$112,1,FALSE)) | D12: =IF(B12="","",IFERROR(VLOOKUP($B12,別記第１号様式別紙_対象者一覧!$B$12:$Q$112,2,FALSE),"")) | E12: =IF(B12="","",VLOOKUP($B12,別記第１号様式別紙_対象者一覧!$B$12:$P$112,3,FALSE)) | F12: =IF(B12="","",SUMIF(別記第１号様式別紙_対象者一覧!$B$12:$B$112,B12,別記第１号様式別紙_対象者一覧!$R$12:$R$112)*1.15) | G12: =F12 | H12: =IF(B12="","",COUNTIF(別記第１号様式別紙_対象者一覧!$B$12:$B$112,B12)) | I12: =IF(B12="","",COUNTIFS(別記第１号様式別紙_対象者一覧!$B$12:$B$111,B12,別記第１号様式別紙_対象者一覧!$E$12:$E$111,"〇")) | J12: =IF(C12="","",COUNTIFS(別記第１号様式別紙_対象者一覧!$B$12:$B$111,C12,別記第１号様式別紙_対象者一覧!$J$12:$J$111,"〇")) | K12: =IF(B12="","",COUNTIFS(別記第１号様式別紙_対象者一覧!$B$12:$B$112,B12,別記第１号様式別紙_対象者一覧!$K$12:$K$112,$K$6)) | L12: =IF(B12="","",COUNTIFS(別記第１号様式別紙_対象者一覧!$B$12:$B$112,B12,別記第１号様式別紙_対象者一覧!$K$12:$K$112,$L$6)) | M12: =IF(B12="","",COUNTIFS(別記第１号様式別紙_対象者一覧!$B$12:$B$112,B12,別記第１号様式別紙_対象者一覧!$K$12:$K$112,$M$6)) | N12: =IF(E12="","",COUNTIFS(別記第１号様式別紙_対象者一覧!$B$12:$B$112,B12,別記第１号様式別紙_対象者一覧!$K$12:$K$112,$N$6))
A13: 7 | B13: {=IFERROR(IF(INDEX(別記第１号様式別紙_対象者一覧!$B$13:$B$112,MATCH(0,COUNTIF(B$7:B12,別記第１号様式別紙_対象者一覧!$B$13:$B$112),0))=0,"",INDEX(別記第１号様式別紙_対象者一覧!$B$13:$B$112,MATCH(0,COUNTIF(B$7:B12,別記第１号様式別紙_対象者一覧!$B$13:$B$112),0))),"")} | C13: =IF(B13="","",VLOOKUP($B13,別記第１号様式別紙_対象者一覧!$B$12:$P$112,1,FALSE)) | D13: =IF(B13="","",IFERROR(VLOOKUP($B13,別記第１号様式別紙_対象者一覧!$B$12:$Q$112,2,FALSE),"")) | E13: =IF(B13="","",VLOOKUP($B13,別記第１号様式別紙_対象者一覧!$B$12:$P$112,3,FALSE)) | F13: =IF(B13="","",SUMIF(別記第１号様式別紙_対象者一覧!$B$12:$B$112,B13,別記第１号様式別紙_対象者一覧!$R$12:$R$112)*1.15) | G13: =F13 | H13: =IF(B13="","",COUNTIF(別記第１号様式別紙_対象者一覧!$B$12:$B$112,B13)) | I13: =IF(B13="","",COUNTIFS(別記第１号様式別紙_対象者一覧!$B$12:$B$111,B13,別記第１号様式別紙_対象者一覧!$E$12:$E$111,"〇")) | J13: =IF(C13="","",COUNTIFS(別記第１号様式別紙_対象者一覧!$B$12:$B$111,C13,別記第１号様式別紙_対象者一覧!$J$12:$J$111,"〇")) | K13: =IF(B13="","",COUNTIFS(別記第１号様式別紙_対象者一覧!$B$12:$B$112,B13,別記第１号様式別紙_対象者一覧!$K$12:$K$112,$K$6)) | L13: =IF(B13="","",COUNTIFS(別記第１号様式別紙_対象者一覧!$B$12:$B$112,B13,別記第１号様式別紙_対象者一覧!$K$12:$K$112,$L$6)) | M13: =IF(B13="","",COUNTIFS(別記第１号様式別紙_対象者一覧!$B$12:$B$112,B13,別記第１号様式別紙_対象者一覧!$K$12:$K$112,$M$6)) | N13: =IF(E13="","",COUNTIFS(別記第１号様式別紙_対象者一覧!$B$12:$B$112,B13,別記第１号様式別紙_対象者一覧!$K$12:$K$112,$N$6))
A14: 8 | B14: {=IFERROR(IF(INDEX(別記第１号様式別紙_対象者一覧!$B$13:$B$112,MATCH(0,COUNTIF(B$7:B13,別記第１号様式別紙_対象者一覧!$B$13:$B$112),0))=0,"",INDEX(別記第１号様式別紙_対象者一覧!$B$13:$B$112,MATCH(0,COUNTIF(B$7:B13,別記第１号様式別紙_対象者一覧!$B$13:$B$112),0))),"")} | C14: =IF(B14="","",VLOOKUP($B14,別記第１号様式別紙_対象者一覧!$B$12:$P$112,1,FALSE)) | D14: =IF(B14="","",IFERROR(VLOOKUP($B14,別記第１号様式別紙_対象者一覧!$B$12:$Q$112,2,FALSE),"")) | E14: =IF(B14="","",VLOOKUP($B14,別記第１号様式別紙_対象者一覧!$B$12:$P$112,3,FALSE)) | F14: =IF(B14="","",SUMIF(別記第１号様式別紙_対象者一覧!$B$12:$B$112,B14,別記第１号様式別紙_対象者一覧!$R$12:$R$112)*1.15) | G14: =F14 | H14: =IF(B14="","",COUNTIF(別記第１号様式別紙_対象者一覧!$B$12:$B$112,B14)) | I14: =IF(B14="","",COUNTIFS(別記第１号様式別紙_対象者一覧!$B$12:$B$111,B14,別記第１号様式別紙_対象者一覧!$E$12:$E$111,"〇")) | J14: =IF(C14="","",COUNTIFS(別記第１号様式別紙_対象者一覧!$B$12:$B$111,C14,別記第１号様式別紙_対象者一覧!$J$12:$J$111,"〇")) | K14: =IF(B14="","",COUNTIFS(別記第１号様式別紙_対象者一覧!$B$12:$B$112,B14,別記第１号様式別紙_対象者一覧!$K$12:$K$112,$K$6)) | L14: =IF(B14="","",COUNTIFS(別記第１号様式別紙_対象者一覧!$B$12:$B$112,B14,別記第１号様式別紙_対象者一覧!$K$12:$K$112,$L$6)) | M14: =IF(B14="","",COUNTIFS(別記第１号様式別紙_対象者一覧!$B$12:$B$112,B14,別記第１号様式別紙_対象者一覧!$K$12:$K$112,$M$6)) | N14: =IF(E14="","",COUNTIFS(別記第１号様式別紙_対象者一覧!$B$12:$B$112,B14,別記第１号様式別紙_対象者一覧!$K$12:$K$112,$N$6))
A15: 9 | B15: {=IFERROR(IF(INDEX(別記第１号様式別紙_対象者一覧!$B$13:$B$112,MATCH(0,COUNTIF(B$7:B14,別記第１号様式別紙_対象者一覧!$B$13:$B$112),0))=0,"",INDEX(別記第１号様式別紙_対象者一覧!$B$13:$B$112,MATCH(0,COUNTIF(B$7:B14,別記第１号様式別紙_対象者一覧!$B$13:$B$112),0))),"")} | C15: =IF(B15="","",VLOOKUP($B15,別記第１号様式別紙_対象者一覧!$B$12:$P$112,1,FALSE)) | D15: =IF(B15="","",IFERROR(VLOOKUP($B15,別記第１号様式別紙_対象者一覧!$B$12:$Q$112,2,FALSE),"")) | E15: =IF(B15="","",VLOOKUP($B15,別記第１号様式別紙_対象者一覧!$B$12:$P$112,3,FALSE)) | F15: =IF(B15="","",SUMIF(別記第１号様式別紙_対象者一覧!$B$12:$B$112,B15,別記第１号様式別紙_対象者一覧!$R$12:$R$112)*1.15) | G15: =F15 | H15: =IF(B15="","",COUNTIF(別記第１号様式別紙_対象者一覧!$B$12:$B$112,B15)) | I15: =IF(B15="","",COUNTIFS(別記第１号様式別紙_対象者一覧!$B$12:$B$111,B15,別記第１号様式別紙_対象者一覧!$E$12:$E$111,"〇")) | J15: =IF(C15="","",COUNTIFS(別記第１号様式別紙_対象者一覧!$B$12:$B$111,C15,別記第１号様式別紙_対象者一覧!$J$12:$J$111,"〇")) | K15: =IF(B15="","",COUNTIFS(別記第１号様式別紙_対象者一覧!$B$12:$B$112,B15,別記第１号様式別紙_対象者一覧!$K$12:$K$112,$K$6)) | L15: =IF(B15="","",COUNTIFS(別記第１号様式別紙_対象者一覧!$B$12:$B$112,B15,別記第１号様式別紙_対象者一覧!$K$12:$K$112,$L$6)) | M15: =IF(B15="","",COUNTIFS(別記第１号様式別紙_対象者一覧!$B$12:$B$112,B15,別記第１号様式別紙_対象者一覧!$K$12:$K$112,$M$6)) | N15: =IF(E15="","",COUNTIFS(別記第１号様式別紙_対象者一覧!$B$12:$B$112,B15,別記第１号様式別紙_対象者一覧!$K$12:$K$112,$N$6))
A16: 10 | B16: {=IFERROR(IF(INDEX(別記第１号様式別紙_対象者一覧!$B$13:$B$112,MATCH(0,COUNTIF(B$7:B15,別記第１号様式別紙_対象者一覧!$B$13:$B$112),0))=0,"",INDEX(別記第１号様式別紙_対象者一覧!$B$13:$B$112,MATCH(0,COUNTIF(B$7:B15,別記第１号様式別紙_対象者一覧!$B$13:$B$112),0))),"")} | C16: =IF(B16="","",VLOOKUP($B16,別記第１号様式別紙_対象者一覧!$B$12:$P$112,1,FALSE)) | D16: =IF(B16="","",IFERROR(VLOOKUP($B16,別記第１号様式別紙_対象者一覧!$B$12:$Q$112,2,FALSE),"")) | E16: =IF(B16="","",VLOOKUP($B16,別記第１号様式別紙_対象者一覧!$B$12:$P$112,3,FALSE)) | F16: =IF(B16="","",SUMIF(別記第１号様式別紙_対象者一覧!$B$12:$B$112,B16,別記第１号様式別紙_対象者一覧!$R$12:$R$112)*1.15) | G16: =F16 | H16: =IF(B16="","",COUNTIF(別記第１号様式別紙_対象者一覧!$B$12:$B$112,B16)) | I16: =IF(B16="","",COUNTIFS(別記第１号様式別紙_対象者一覧!$B$12:$B$111,B16,別記第１号様式別紙_対象者一覧!$E$12:$E$111,"〇")) | J16: =IF(C16="","",COUNTIFS(別記第１号様式別紙_対象者一覧!$B$12:$B$111,C16,別記第１号様式別紙_対象者一覧!$J$12:$J$111,"〇")) | K16: =IF(B16="","",COUNTIFS(別記第１号様式別紙_対象者一覧!$B$12:$B$112,B16,別記第１号様式別紙_対象者一覧!$K$12:$K$112,$K$6)) | L16: =IF(B16="","",COUNTIFS(別記第１号様式別紙_対象者一覧!$B$12:$B$112,B16,別記第１号様式別紙_対象者一覧!$K$12:$K$112,$L$6)) | M16: =IF(B16="","",COUNTIFS(別記第１号様式別紙_対象者一覧!$B$12:$B$112,B16,別記第１号様式別紙_対象者一覧!$K$12:$K$112,$M$6)) | N16: =IF(E16="","",COUNTIFS(別記第１号様式別紙_対象者一覧!$B$12:$B$112,B16,別記第１号様式別紙_対象者一覧!$K$12:$K$112,$N$6))
A17: 11 | B17: {=IFERROR(IF(INDEX(別記第１号様式別紙_対象者一覧!$B$13:$B$112,MATCH(0,COUNTIF(B$7:B16,別記第１号様式別紙_対象者一覧!$B$13:$B$112),0))=0,"",INDEX(別記第１号様式別紙_対象者一覧!$B$13:$B$112,MATCH(0,COUNTIF(B$7:B16,別記第１号様式別紙_対象者一覧!$B$13:$B$112),0))),"")} | C17: =IF(B17="","",VLOOKUP($B17,別記第１号様式別紙_対象者一覧!$B$12:$P$112,1,FALSE)) | D17: =IF(B17="","",IFERROR(VLOOKUP($B17,別記第１号様式別紙_対象者一覧!$B$12:$Q$112,2,FALSE),"")) | E17: =IF(B17="","",VLOOKUP($B17,別記第１号様式別紙_対象者一覧!$B$12:$P$112,3,FALSE)) | F17: =IF(B17="","",SUMIF(別記第１号様式別紙_対象者一覧!$B$12:$B$112,B17,別記第１号様式別紙_対象者一覧!$R$12:$R$112)*1.15) | G17: =F17 | H17: =IF(B17="","",COUNTIF(別記第１号様式別紙_対象者一覧!$B$12:$B$112,B17)) | I17: =IF(B17="","",COUNTIFS(別記第１号様式別紙_対象者一覧!$B$12:$B$111,B17,別記第１号様式別紙_対象者一覧!$E$12:$E$111,"〇")) | J17: =IF(C17="","",COUNTIFS(別記第１号様式別紙_対象者一覧!$B$12:$B$111,C17,別記第１号様式別紙_対象者一覧!$J$12:$J$111,"〇")) | K17: =IF(B17="","",COUNTIFS(別記第１号様式別紙_対象者一覧!$B$12:$B$112,B17,別記第１号様式別紙_対象者一覧!$K$12:$K$112,$K$6)) | L17: =IF(B17="","",COUNTIFS(別記第１号様式別紙_対象者一覧!$B$12:$B$112,B17,別記第１号様式別紙_対象者一覧!$K$12:$K$112,$L$6)) | M17: =IF(B17="","",COUNTIFS(別記第１号様式別紙_対象者一覧!$B$12:$B$112,B17,別記第１号様式別紙_対象者一覧!$K$12:$K$112,$M$6)) | N17: =IF(E17="","",COUNTIFS(別記第１号様式別紙_対象者一覧!$B$12:$B$112,B17,別記第１号様式別紙_対象者一覧!$K$12:$K$112,$N$6))
A18: 12 | B18: {=IFERROR(IF(INDEX(別記第１号様式別紙_対象者一覧!$B$13:$B$112,MATCH(0,COUNTIF(B$7:B17,別記第１号様式別紙_対象者一覧!$B$13:$B$112),0))=0,"",INDEX(別記第１号様式別紙_対象者一覧!$B$13:$B$112,MATCH(0,COUNTIF(B$7:B17,別記第１号様式別紙_対象者一覧!$B$13:$B$112),0))),"")} | C18: =IF(B18="","",VLOOKUP($B18,別記第１号様式別紙_対象者一覧!$B$12:$P$112,1,FALSE)) | D18: =IF(B18="","",IFERROR(VLOOKUP($B18,別記第１号様式別紙_対象者一覧!$B$12:$Q$112,2,FALSE),"")) | E18: =IF(B18="","",VLOOKUP($B18,別記第１号様式別紙_対象者一覧!$B$12:$P$112,3,FALSE)) | F18: =IF(B18="","",SUMIF(別記第１号様式別紙_対象者一覧!$B$12:$B$112,B18,別記第１号様式別紙_対象者一覧!$R$12:$R$112)*1.15) | G18: =F18 | H18: =IF(B18="","",COUNTIF(別記第１号様式別紙_対象者一覧!$B$12:$B$112,B18)) | I18: =IF(B18="","",COUNTIFS(別記第１号様式別紙_対象者一覧!$B$12:$B$111,B18,別記第１号様式別紙_対象者一覧!$E$12:$E$111,"〇")) | J18: =IF(C18="","",COUNTIFS(別記第１号様式別紙_対象者一覧!$B$12:$B$111,C18,別記第１号様式別紙_対象者一覧!$J$12:$J$111,"〇")) | K18: =IF(B18="","",COUNTIFS(別記第１号様式別紙_対象者一覧!$B$12:$B$112,B18,別記第１号様式別紙_対象者一覧!$K$12:$K$112,$K$6)) | L18: =IF(B18="","",COUNTIFS(別記第１号様式別紙_対象者一覧!$B$12:$B$112,B18,別記第１号様式別紙_対象者一覧!$K$12:$K$112,$L$6)) | M18: =IF(B18="","",COUNTIFS(別記第１号様式別紙_対象者一覧!$B$12:$B$112,B18,別記第１号様式別紙_対象者一覧!$K$12:$K$112,$M$6)) | N18: =IF(E18="","",COUNTIFS(別記第１号様式別紙_対象者一覧!$B$12:$B$112,B18,別記第１号様式別紙_対象者一覧!$K$12:$K$112,$N$6))
A19: 13 | B19: {=IFERROR(IF(INDEX(別記第１号様式別紙_対象者一覧!$B$13:$B$112,MATCH(0,COUNTIF(B$7:B18,別記第１号様式別紙_対象者一覧!$B$13:$B$112),0))=0,"",INDEX(別記第１号様式別紙_対象者一覧!$B$13:$B$112,MATCH(0,COUNTIF(B$7:B18,別記第１号様式別紙_対象者一覧!$B$13:$B$112),0))),"")} | C19: =IF(B19="","",VLOOKUP($B19,別記第１号様式別紙_対象者一覧!$B$12:$P$112,1,FALSE)) | D19: =IF(B19="","",IFERROR(VLOOKUP($B19,別記第１号様式別紙_対象者一覧!$B$12:$Q$112,2,FALSE),"")) | E19: =IF(B19="","",VLOOKUP($B19,別記第１号様式別紙_対象者一覧!$B$12:$P$112,3,FALSE)) | F19: =IF(B19="","",SUMIF(別記第１号様式別紙_対象者一覧!$B$12:$B$112,B19,別記第１号様式別紙_対象者一覧!$R$12:$R$112)*1.15) | G19: =F19 | H19: =IF(B19="","",COUNTIF(別記第１号様式別紙_対象者一覧!$B$12:$B$112,B19)) | I19: =IF(B19="","",COUNTIFS(別記第１号様式別紙_対象者一覧!$B$12:$B$111,B19,別記第１号様式別紙_対象者一覧!$E$12:$E$111,"〇")) | J19: =IF(C19="","",COUNTIFS(別記第１号様式別紙_対象者一覧!$B$12:$B$111,C19,別記第１号様式別紙_対象者一覧!$J$12:$J$111,"〇")) | K19: =IF(B19="","",COUNTIFS(別記第１号様式別紙_対象者一覧!$B$12:$B$112,B19,別記第１号様式別紙_対象者一覧!$K$12:$K$112,$K$6)) | L19: =IF(B19="","",COUNTIFS(別記第１号様式別紙_対象者一覧!$B$12:$B$112,B19,別記第１号様式別紙_対象者一覧!$K$12:$K$112,$L$6)) | M19: =IF(B19="","",COUNTIFS(別記第１号様式別紙_対象者一覧!$B$12:$B$112,B19,別記第１号様式別紙_対象者一覧!$K$12:$K$112,$M$6)) | N19: =IF(E19="","",COUNTIFS(別記第１号様式別紙_対象者一覧!$B$12:$B$112,B19,別記第１号様式別紙_対象者一覧!$K$12:$K$112,$N$6))
... A26: 20 | B26: {=IFERROR(IF(INDEX(別記第１号様式別紙_対象者一覧!$B$13:$B$112,MATCH(0,COUNTIF(B$7:B25,別記第１号様式別紙_対象者一覧!$B$13:$B$112),0))=0,"",INDEX(別記第１号様式別紙_対象者一覧!$B$13:$B$112,MATCH(0,COUNTIF(B$7:B25,別記第１号様式別紙_対象者一覧!$B$13:$B$112),0))),"")} | C26: =IF(B26="","",VLOOKUP($B26,別記第１号様式別紙_対象者一覧!$B$12:$P$112,1,FALSE)) | D26: =IF(B26="","",IFERROR(VLOOKUP($B26,別記第１号様式別紙_対象者一覧!$B$12:$Q$112,2,FALSE),"")) | E26: =IF(B26="","",VLOOKUP($B26,別記第１号様式別紙_対象者一覧!$B$12:$P$112,3,FALSE)) | F26: =IF(B26="","",SUMIF(別記第１号様式別紙_対象者一覧!$B$12:$B$112,B26,別記第１号様式別紙_対象者一覧!$R$12:$R$112)*1.15) | G26: =F26 | H26: =IF(B26="","",COUNTIF(別記第１号様式別紙_対象者一覧!$B$12:$B$112,B26)) | I26: =IF(B26="","",COUNTIFS(別記第１号様式別紙_対象者一覧!$B$12:$B$111,B26,別記第１号様式別紙_対象者一覧!$E$12:$E$111,"〇")) | J26: =IF(C26="","",COUNTIFS(別記第１号様式別紙_対象者一覧!$B$12:$B$111,C26,別記第１号様式別紙_対象者一覧!$J$12:$J$111,"〇")) | K26: =IF(B26="","",COUNTIFS(別記第１号様式別紙_対象者一覧!$B$12:$B$112,B26,別記第１号様式別紙_対象者一覧!$K$12:$K$112,$K$6)) | L26: =IF(B26="","",COUNTIFS(別記第１号様式別紙_対象者一覧!$B$12:$B$112,B26,別記第１号様式別紙_対象者一覧!$K$12:$K$112,$L$6)) | M26: =IF(B26="","",COUNTIFS(別記第１号様式別紙_対象者一覧!$B$12:$B$112,B26,別記第１号様式別紙_対象者一覧!$K$12:$K$112,$M$6)) | N26: =IF(E26="","",COUNTIFS(別記第１号様式別紙_対象者一覧!$B$12:$B$112,B26,別記第１号様式別紙_対象者一覧!$K$12:$K$112,$N$6))
E27: 合計 | F27: =SUM(F7:F26) -> 0 | G27: =ROUNDDOWN(F27,-3) -> 0 | H27: =SUM(H7:H26) -> 0 | I27: =SUM(I7:I26) -> 0 | J27: =SUM(J7:J26) -> 0 | K27: =SUM(K7:K26) -> 0 | L27: =SUM(L7:L26) -> 0 | M27: =SUM(M7:M26) -> 0 | N27: =SUM(N7:N26) -> 0
G28: ※「事業所ごとの交付申請額」の合計欄(G27セル)について
G29: 法人としての交付申請額合計を記載しているため、列の合計と一致しない場合があります。

Sheet 別記第１号様式_関係書類_提出内容確認書
B1: 交付申請書等提出内容確認書
V3: =【入力】基本情報シート!J5 -> 令和 | X3: =IF(【入力】基本情報シート!L5="","",【入力】基本情報シート!L5) | Y3: 年 | Z3: =IF(【入力】基本情報シート!O5="","",【入力】基本情報シート!O5) | AB3: 月 | AC3: =IF(【入力】基本情報シート!S5="","",【入力】基本情報シート!S5) | AE3: 日
L5: 法人名称 | P5: =IF(【入力】基本情報シート!J27="","",【入力】基本情報シート!J27)
B7: =" "&【入力】基本情報シート!C1&【入力】基本情報シート!D1&"年度渋谷区福祉人材支援手当事業補助金の交付申請にあたり、次の項目を確認したことを報告します。" -> 令和8年度渋谷区福祉人材支援手当事業補助金の交付申請にあたり、次の項目を確認したことを報告します。
B10: 対象者
B11: 雇用形態 | F11: 対象者はサービス事業所を運営する法人から直接雇用を受け、当該事業所で勤務する従事者であるか。派遣従事者、委託先従事者は含まれていないか。 | AC11: FALSE
B12: 職種 | F12: ホームヘルパー、生活支援員、生活支援コーディネーター、児童指導員、保育士、世話人、職業指導員、地域移行支援員、就労支援員、就労支援コーディネーター、訪問支援員、介護職員、相談支援専門員、サービス提供責任者、サービス管理責任者、児童発達支援管理責任者、拠点コーディネーター、その他区長が認める者のいずれかの職種で職員を配置しているか。 | AC12: FALSE
B14: 勤務時間数 | F14: 対象の職種として従事した勤務にかかる所定労働時間が週20時間以上又は月80時間以上であるか。また、所定労働時間が週20時間未満かつ月80時間未満である場合又は所定労働時間の定めのない場合は、実労働時間が週20時間以上又は月80時間以上であるか。 | AC14: FALSE
F15: 事業所における役員（法人代表者を含む）は、補助対象業務に係る実労働時間が週20時間以上又は月80時間以上であるか。 | AC15: FALSE
B16: 加算対象 | F16: 加算対象の職員は勤続年数が同一法人内で６年目以降としているか。（役員は除く。）。また、対象者の加算は、雇用開始から引き続く６１か月目以降に係る分としているか。 | AC16: FALSE
B17: その他 | F17: 介護事業所と障害福祉サービス事業所で兼務している場合、重複して申請していないか。 | AC17: FALSE
B18: 福祉人材支援手当
B19: 改定 | F19: 就業規則又は給与規程等の従業員の給与を定める規程を改定し、労働基準監督署へ提出しているか。（従事者が10人未満の法人で、就業規則または給与規程等を定めていない場合は、対象者ごとに作成する労働条件通知書に当該手当を定めているか。） | AC19: FALSE
B20: 規程 | F20: 就業規則又は給与規程等は次のとおり改定されているか。①「福祉人材支援手当」の創設、②「渋谷区福祉人材支援手当（障がい）の支給に係る補助事業実施要綱」の運用に準拠し支給すること、③具体的な支給額 | AC20: FALSE
B21: 役員報酬 | F21: 役員は就業規則又は給与規程等により定めることができないため、役員報酬において支給することとしているか。 | AC21: FALSE

Sheet 別記第1号様式_交付申請書
A1: 別記第１号様式（第７条関係）
V2: =【入力】基本情報シート!J5 -> 令和 | X2: =IF(【入力】基本情報シート!L5="","",【入力】基本情報シート!L5) | Y2: 年 | Z2: =IF(【入力】基本情報シート!O5="","",【入力】基本情報シート!O5) | AB2: 月 | AC2: =IF(【入力】基本情報シート!S5="","",【入力】基本情報シート!S5) | AE2: 日
A3: 渋谷区長 殿
L4: 法人名称 | P4: =IF(【入力】基本情報シート!J27="","",【入力】基本情報シート!J27)
L6: 法人所在地 | P6: =IF(【入力】基本情報シート!M29="","",【入力】基本情報シート!M29)
L10: 代表者職名 | P10: =IF(【入力】基本情報シート!J30="","",【入力】基本情報シート!J30)
L12: 代表者氏名 | P12: =IF(【入力】基本情報シート!J31="","",【入力】基本情報シート!J31)
B14: =【入力】基本情報シート!C1&【入力】基本情報シート!D1&"年度渋谷区福祉人材支援手当事業補助金" -> 令和8年度渋谷区福祉人材支援手当事業補助金
B15: 交付申請書
B17: 渋谷区福祉人材支援手当（障がい）の支給に係る補助事業実施要綱第７条に基づき、下記のとおり補助金の交付申請をします。
A20: 記
B22: １ 申請額 | L22: =IF(OR(別記第１号様式別紙_対象者一覧!R7="",別記第１号様式別紙_対象者一覧!R7=0),"",別記第１号様式別紙_対象者一覧!R7) | T22: 円
B24: ２ 内訳および添付書類 | L24: ="別紙「令和"&【入力】基本情報シート!B1&【入力】基本情報シート!D1&"年度渋谷区福祉人材支援手当事業補助金交付申請対象職員一覧」のとおり" -> 別紙「令和8年度渋谷区福祉人材支援手当事業補助金交付申請対象職員一覧」のとおり
B27: （提出書類）
C29: （１） | E29: ="（別記第1号様式）"&【入力】基本情報シート!$C$1&【入力】基本情報シート!$D$1&"年度渋谷区福祉人材支援手当事業補助金交付申請書（本紙）" -> （別記第1号様式）令和8年度渋谷区福祉人材支援手当事業補助金交付申請書（本紙）
C32: （２） | E32: ="（別記第1号様式別紙）"&【入力】基本情報シート!$C$1&【入力】基本情報シート!$D$1&"年度渋谷区福祉人材支援手当事業補助金交付申請対象者一覧" -> （別記第1号様式別紙）令和8年度渋谷区福祉人材支援手当事業補助金交付申請対象者一覧
C35: （３） | E35: 就業規則または給与規程等 ※本要綱に基づく「福祉人材支援手当」の支給について法人として規定していることの根拠資料
C38: （４） | E38: 就業規則又は給与規程等一覧
C40: （５） | E40: 交付申請書等提出内容確認書
C42: （６） | E42: その他関係書類
N45: 法人の事務取扱者
N46: 事業所名 | R46: =IF(【入力】基本情報シート!J36="","",【入力】基本情報シート!J36)
N47: 担当者 | R47: =IF(【入力】基本情報シート!J37="","",【入力】基本情報シート!J37)
N48: TEL | R48: =IF(【入力】基本情報シート!J38="","",【入力】基本情報シート!J38) | U48: - | V48: =IF(【入力】基本情報シート!P38="","",【入力】基本情報シート!P38) | Z48: - | AA48: =IF(【入力】基本情報シート!Y38="","",【入力】基本情報シート!Y38)
N49: e-mail | R49: =IF(【入力】基本情報シート!J39="","",【入力】基本情報シート!J39)

Sheet 別記第４号様式_関係書類_就業規則等一覧（変更）
A1: 就業規則または給与規程等一覧（変更交付申請）
F2: =IF(OR(【入力】基本情報シート!L8="",【入力】基本情報シート!O8="",【入力】基本情報シート!S8=""),"","令和"&【入力】基本情報シート!L8&"年"&【入力】基本情報シート!O8&"月"&【入力】基本情報シート!S8&"日")
F3: ``
E4: 法人名称 | F4: =IF(法人名称="","",法人名称)
A5: =" 渋谷区福祉人材支援手当の支給に係る補助事業実施要綱第５条に基づき定めた就業規則または給与規程等を提出します。" -> 渋谷区福祉人材支援手当の支給に係る補助事業実施要綱第５条に基づき定めた就業規則または給与規程等を提出します。
A8: また、支給額について法人独自で支給額未満額を定めた場合のみ、以下の「補助月額」に係る欄に金額を記載します。
A10: ※行が不足する場合は、事務局に連絡をして下さい。 | G10: 単位：円
A11: 就業規則等番号 (対象職員一覧に記載) | B11: 就業規則等名称 | C11: 就業規則等の適用年月日 | D11: 補助基準 月額 | E11: 補助基準 月額（加算額） | F11: 補助月額 （法人独自） | G11: 補助月額 （加算額） （法人独自）
A13: a | D13: =IF(B13<>"",10000,"") | E13: =IF(B13<>"",10000,"")
A14: b | D14: =IF(B14<>"",10000,"") | E14: =IF(B14<>"",10000,"")
A15: c | D15: =IF(B15<>"",10000,"") | E15: =IF(B15<>"",10000,"")
A16: d | D16: =IF(B16<>"",10000,"") | E16: =IF(B16<>"",10000,"")
A17: e | D17: =IF(B17<>"",10000,"") | E17: =IF(B17<>"",10000,"")
A18: f | D18: =IF(B18<>"",10000,"") | E18: =IF(B18<>"",10000,"")
A19: g | D19: =IF(B19<>"",10000,"") | E19: =IF(B19<>"",10000,"")
A20: h | D20: =IF(B20<>"",10000,"") | E20: =IF(B20<>"",10000,"")
A21: i | D21: =IF(B21<>"",10000,"") | E21: =IF(B21<>"",10000,"")
A22: j | D22: =IF(B22<>"",10000,"") | E22: =IF(B22<>"",10000,"")
A23: k | D23: =IF(B23<>"",10000,"") | E23: =IF(B23<>"",10000,"")
A24: l | D24: =IF(B24<>"",10000,"") | E24: =IF(B24<>"",10000,"")
... A27: o | D27: =IF(B27<>"",10000,"") | E27: =IF(B27<>"",10000,"")
A28: 就業規則または給与規程等を定めていない役員（法人代表者含む）および従事者ごとに作成する労働条件通知書により当該 手当の支給を定めている場合は下記のとおり対応します。
A30: また、支給額について法人独自で支給額未満額を定めた場合のみ、以下の「補助月額」に係る欄に金額を記載します。
A32: 就業規則等番号 (対象職員一覧に記載) | B32: 種別 | D32: 支給月額 （円） | E32: 支給月額 (加算額） （円） | F32: 補助月額 （法人独自） | G32: 補助月額 （加算額） （法人独自）
A34: 1 | B34: 役員※就業規則等の添付は不要 | D34: 10000 | E34: 0 | G34: 0
A35: 2 | B35: 個別の労働条件通知書等※対象職員全員分を提出 | D35: 10000 | E35: 10000

Sheet 別記第4号様式別紙_対象者一覧（変更） 
A2: 令和８年度渋谷区福祉人材支援手当事業補助金交付申請対象者一覧（変更交付申請） | R2: 別記第４号様式別紙
B3: 法人名称： | C3: =IF(【入力】基本情報シート!J27="","",【入力】基本情報シート!J27)
O4: 手当支給にかかる補助対象額合計額(H) | R4: =SUM(R12:R111) -> 0
N5: 社会保険料雇用主負担額に相当する額(I=H×15%) | R5: =ROUNDUP(R4*0.15,0) -> 0
P6: 補助対象額合計(J=H+I) | R6: =R4+R5 -> 0
O7: 交付申請額(Jを千円未満切捨て) | R7: =ROUNDDOWN((R6),-3) -> 0
L9: A | M9: B | N9: C | O9: D | P9: E | Q9: G | R9: H
A10: No. | B10: 事業所情報 | E10: 対象者情報 | I10: 該当する 就業規則又は 給与規定等一覧 | J10: 役員 （法人代表者含む） | K10: 1. 5年目まで/常勤 2. 5年目まで/非常勤 3. 6年目以降/常勤 4. 6年目以降/非常勤 | L10: 1年目から5年目(60か月目)までの対象者 | O10: 6年目(61か月目)以降の対象者 | R10: 手当支給に係る 補助対象額 (円)
B11: 事業所 指定番号 | C11: 事業種別 | D11: 事業所 名称 | E11: 採用 予定者 | F11: 姓 | G11: 名 | H11: 生年月日 | L11: 申請対象 月数 | M11: 補助基準月額 10,000円 | N11: 補助 月額 【法人独自】 | O11: 申請対象 月数 | P11: 補助基準月額 （加算額含む） 20,000円 | Q11: 補助月額 (加算額含む） 【法人独自】 | T11: 事業種別 | U11: 勤務年数・勤務形態 | V11: 申請対象月数 | W11: 役員
A12: 1 | M12: =IF(J12="〇",IF(ISNUMBER(MATCH(K12,$U$12:$U$15,0)),10000,""),IF(COUNTIF($U$12:$U$13,K12),10000,"")) | N12: =IF(ISNUMBER(M12),IFERROR(IF(VLOOKUP(I12,'別記第４号様式_関係書類_就業規則等一覧（変更）'!$A$13:$G$35,6,FALSE)=0,"",VLOOKUP(I12,'別記第４号様式_関係書類_就業規則等一覧（変更）'!$A$13:$G$35,6,FALSE)),""),"") | P12: =IF(J12<>"〇",IF(OR(K12=$U$14,K12=$U$15),20000,""),"") | Q12: =IF(ISNUMBER(P12),IFERROR(IF(VLOOKUP(I12,'別記第４号様式_関係書類_就業規則等一覧（変更）'!$A$13:$G$35,7,FALSE)=0,"",2*VLOOKUP(I12,'別記第４号様式_関係書類_就業規則等一覧（変更）'!$A$13:$G$35,7,FALSE)),""),"") | R12: {=IF(L12<>"", IF(COUNT(M12:N12),L12*MIN(IF(M12:N12<>"",M12:N12)),""), IF(O12<>"", IF(COUNT(P12:Q12),O12*MIN(IF(P12:Q12<>"",P12:Q12)),""), "" ) )} | T12: 1.居宅介護 | U12: 1.5年目まで/常勤 | V12: 1 | W12: 〇
A13: 2 | M13: =IF(J13="〇",IF(ISNUMBER(MATCH(K13,$U$12:$U$15,0)),10000,""),IF(COUNTIF($U$12:$U$13,K13),10000,"")) | N13: =IF(ISNUMBER(M13),IFERROR(IF(VLOOKUP(I13,'別記第４号様式_関係書類_就業規則等一覧（変更）'!$A$13:$G$35,6,FALSE)=0,"",VLOOKUP(I13,'別記第４号様式_関係書類_就業規則等一覧（変更）'!$A$13:$G$35,6,FALSE)),""),"") | P13: =IF(J13<>"〇",IF(OR(K13=$U$14,K13=$U$15),20000,""),"") | Q13: =IF(ISNUMBER(P13),IFERROR(IF(VLOOKUP(I13,'別記第４号様式_関係書類_就業規則等一覧（変更）'!$A$13:$G$35,7,FALSE)=0,"",2*VLOOKUP(I13,'別記第４号様式_関係書類_就業規則等一覧（変更）'!$A$13:$G$35,7,FALSE)),""),"") | R13: {=IF(L13<>"", IF(COUNT(M13:N13),L13*MIN(IF(M13:N13<>"",M13:N13)),""), IF(O13<>"", IF(COUNT(P13:Q13),O13*MIN(IF(P13:Q13<>"",P13:Q13)),""), "" ) )} | T13: 2.重度訪問介護 | U13: 2.5年目まで/非常勤 | V13: 2
A14: 3 | M14: =IF(J14="〇",IF(ISNUMBER(MATCH(K14,$U$12:$U$15,0)),10000,""),IF(COUNTIF($U$12:$U$13,K14),10000,"")) | N14: =IF(ISNUMBER(M14),IFERROR(IF(VLOOKUP(I14,'別記第４号様式_関係書類_就業規則等一覧（変更）'!$A$13:$G$35,6,FALSE)=0,"",VLOOKUP(I14,'別記第４号様式_関係書類_就業規則等一覧（変更）'!$A$13:$G$35,6,FALSE)),""),"") | P14: =IF(J14<>"〇",IF(OR(K14=$U$14,K14=$U$15),20000,""),"") | Q14: =IF(ISNUMBER(P14),IFERROR(IF(VLOOKUP(I14,'別記第４号様式_関係書類_就業規則等一覧（変更）'!$A$13:$G$35,7,FALSE)=0,"",2*VLOOKUP(I14,'別記第４号様式_関係書類_就業規則等一覧（変更）'!$A$13:$G$35,7,FALSE)),""),"") | R14: {=IF(L14<>"", IF(COUNT(M14:N14),L14*MIN(IF(M14:N14<>"",M14:N14)),""), IF(O14<>"", IF(COUNT(P14:Q14),O14*MIN(IF(P14:Q14<>"",P14:Q14)),""), "" ) )} | T14: 3.同行援護 | U14: 3.6年目以降/常勤 | V14: 3
A15: 4 | M15: =IF(J15="〇",IF(ISNUMBER(MATCH(K15,$U$12:$U$15,0)),10000,""),IF(COUNTIF($U$12:$U$13,K15),10000,"")) | N15: =IF(ISNUMBER(M15),IFERROR(IF(VLOOKUP(I15,'別記第４号様式_関係書類_就業規則等一覧（変更）'!$A$13:$G$35,6,FALSE)=0,"",VLOOKUP(I15,'別記第４号様式_関係書類_就業規則等一覧（変更）'!$A$13:$G$35,6,FALSE)),""),"") | P15: =IF(J15<>"〇",IF(OR(K15=$U$14,K15=$U$15),20000,""),"") | Q15: =IF(ISNUMBER(P15),IFERROR(IF(VLOOKUP(I15,'別記第４号様式_関係書類_就業規則等一覧（変更）'!$A$13:$G$35,7,FALSE)=0,"",2*VLOOKUP(I15,'別記第４号様式_関係書類_就業規則等一覧（変更）'!$A$13:$G$35,7,FALSE)),""),"") | R15: {=IF(L15<>"", IF(COUNT(M15:N15),L15*MIN(IF(M15:N15<>"",M15:N15)),""), IF(O15<>"", IF(COUNT(P15:Q15),O15*MIN(IF(P15:Q15<>"",P15:Q15)),""), "" ) )} | T15: 4.行動援護 | U15: 4.6年目以降/非常勤 | V15: 4
A16: 5 | M16: =IF(J16="〇",IF(ISNUMBER(MATCH(K16,$U$12:$U$15,0)),10000,""),IF(COUNTIF($U$12:$U$13,K16),10000,"")) | N16: =IF(ISNUMBER(M16),IFERROR(IF(VLOOKUP(I16,'別記第４号様式_関係書類_就業規則等一覧（変更）'!$A$13:$G$35,6,FALSE)=0,"",VLOOKUP(I16,'別記第４号様式_関係書類_就業規則等一覧（変更）'!$A$13:$G$35,6,FALSE)),""),"") | P16: =IF(J16<>"〇",IF(OR(K16=$U$14,K16=$U$15),20000,""),"") | Q16: =IF(ISNUMBER(P16),IFERROR(IF(VLOOKUP(I16,'別記第４号様式_関係書類_就業規則等一覧（変更）'!$A$13:$G$35,7,FALSE)=0,"",2*VLOOKUP(I16,'別記第４号様式_関係書類_就業規則等一覧（変更）'!$A$13:$G$35,7,FALSE)),""),"") | R16: {=IF(L16<>"", IF(COUNT(M16:N16),L16*MIN(IF(M16:N16<>"",M16:N16)),""), IF(O16<>"", IF(COUNT(P16:Q16),O16*MIN(IF(P16:Q16<>"",P16:Q16)),""), "" ) )} | T16: 5.重度障害者等包括支援 | V16: 5
A17: 6 | M17: =IF(J17="〇",IF(ISNUMBER(MATCH(K17,$U$12:$U$15,0)),10000,""),IF(COUNTIF($U$12:$U$13,K17),10000,"")) | N17: =IF(ISNUMBER(M17),IFERROR(IF(VLOOKUP(I17,'別記第４号様式_関係書類_就業規則等一覧（変更）'!$A$13:$G$35,6,FALSE)=0,"",VLOOKUP(I17,'別記第４号様式_関係書類_就業規則等一覧（変更）'!$A$13:$G$35,6,FALSE)),""),"") | P17: =IF(J17<>"〇",IF(OR(K17=$U$14,K17=$U$15),20000,""),"") | Q17: =IF(ISNUMBER(P17),IFERROR(IF(VLOOKUP(I17,'別記第４号様式_関係書類_就業規則等一覧（変更）'!$A$13:$G$35,7,FALSE)=0,"",2*VLOOKUP(I17,'別記第４号様式_関係書類_就業規則等一覧（変更）'!$A$13:$G$35,7,FALSE)),""),"") | R17: {=IF(L17<>"", IF(COUNT(M17:N17),L17*MIN(IF(M17:N17<>"",M17:N17)),""), IF(O17<>"", IF(COUNT(P17:Q17),O17*MIN(IF(P17:Q17<>"",P17:Q17)),""), "" ) )} | T17: 6.生活介護 | V17: 6
A18: 7 | M18: =IF(J18="〇",IF(ISNUMBER(MATCH(K18,$U$12:$U$15,0)),10000,""),IF(COUNTIF($U$12:$U$13,K18),10000,"")) | N18: =IF(ISNUMBER(M18),IFERROR(IF(VLOOKUP(I18,'別記第４号様式_関係書類_就業規則等一覧（変更）'!$A$13:$G$35,6,FALSE)=0,"",VLOOKUP(I18,'別記第４号様式_関係書類_就業規則等一覧（変更）'!$A$13:$G$35,6,FALSE)),""),"") | P18: =IF(J18<>"〇",IF(OR(K18=$U$14,K18=$U$15),20000,""),"") | Q18: =IF(ISNUMBER(P18),IFERROR(IF(VLOOKUP(I18,'別記第４号様式_関係書類_就業規則等一覧（変更）'!$A$13:$G$35,7,FALSE)=0,"",2*VLOOKUP(I18,'別記第４号様式_関係書類_就業規則等一覧（変更）'!$A$13:$G$35,7,FALSE)),""),"") | R18: {=IF(L18<>"", IF(COUNT(M18:N18),L18*MIN(IF(M18:N18<>"",M18:N18)),""), IF(O18<>"", IF(COUNT(P18:Q18),O18*MIN(IF(P18:Q18<>"",P18:Q18)),""), "" ) )} | T18: 7.施設入所支援 | V18: 7
A19: 8 | M19: =IF(J19="〇",IF(ISNUMBER(MATCH(K19,$U$12:$U$15,0)),10000,""),IF(COUNTIF($U$12:$U$13,K19),10000,"")) | N19: =IF(ISNUMBER(M19),IFERROR(IF(VLOOKUP(I19,'別記第４号様式_関係書類_就業規則等一覧（変更）'!$A$13:$G$35,6,FALSE)=0,"",VLOOKUP(I19,'別記第４号様式_関係書類_就業規則等一覧（変更）'!$A$13:$G$35,6,FALSE)),""),"") | P19: =IF(J19<>"〇",IF(OR(K19=$U$14,K19=$U$15),20000,""),"") | Q19: =IF(ISNUMBER(P19),IFERROR(IF(VLOOKUP(I19,'別記第４号様式_関係書類_就業規則等一覧（変更）'!$A$13:$G$35,7,FALSE)=0,"",2*VLOOKUP(I19,'別記第４号様式_関係書類_就業規則等一覧（変更）'!$A$13:$G$35,7,FALSE)),""),"") | R19: {=IF(L19<>"", IF(COUNT(M19:N19),L19*MIN(IF(M19:N19<>"",M19:N19)),""), IF(O19<>"", IF(COUNT(P19:Q19),O19*MIN(IF(P19:Q19<>"",P19:Q19)),""), "" ) )} | T19: 8.短期入所 | V19: 8 | X19: =F19&G19&H19
A20: 9 | M20: =IF(J20="〇",IF(ISNUMBER(MATCH(K20,$U$12:$U$15,0)),10000,""),IF(COUNTIF($U$12:$U$13,K20),10000,"")) | N20: =IF(ISNUMBER(M20),IFERROR(IF(VLOOKUP(I20,'別記第４号様式_関係書類_就業規則等一覧（変更）'!$A$13:$G$35,6,FALSE)=0,"",VLOOKUP(I20,'別記第４号様式_関係書類_就業規則等一覧（変更）'!$A$13:$G$35,6,FALSE)),""),"") | P20: =IF(J20<>"〇",IF(OR(K20=$U$14,K20=$U$15),20000,""),"") | Q20: =IF(ISNUMBER(P20),IFERROR(IF(VLOOKUP(I20,'別記第４号様式_関係書類_就業規則等一覧（変更）'!$A$13:$G$35,7,FALSE)=0,"",2*VLOOKUP(I20,'別記第４号様式_関係書類_就業規則等一覧（変更）'!$A$13:$G$35,7,FALSE)),""),"") | R20: {=IF(L20<>"", IF(COUNT(M20:N20),L20*MIN(IF(M20:N20<>"",M20:N20)),""), IF(O20<>"", IF(COUNT(P20:Q20),O20*MIN(IF(P20:Q20<>"",P20:Q20)),""), "" ) )} | T20: 9.療養介護 | V20: 9 | X20: =F20&G20&H20
A21: 10 | M21: =IF(J21="〇",IF(ISNUMBER(MATCH(K21,$U$12:$U$15,0)),10000,""),IF(COUNTIF($U$12:$U$13,K21),10000,"")) | N21: =IF(ISNUMBER(M21),IFERROR(IF(VLOOKUP(I21,'別記第４号様式_関係書類_就業規則等一覧（変更）'!$A$13:$G$35,6,FALSE)=0,"",VLOOKUP(I21,'別記第４号様式_関係書類_就業規則等一覧（変更）'!$A$13:$G$35,6,FALSE)),""),"") | P21: =IF(J21<>"〇",IF(OR(K21=$U$14,K21=$U$15),20000,""),"") | Q21: =IF(ISNUMBER(P21),IFERROR(IF(VLOOKUP(I21,'別記第４号様式_関係書類_就業規則等一覧（変更）'!$A$13:$G$35,7,FALSE)=0,"",2*VLOOKUP(I21,'別記第４号様式_関係書類_就業規則等一覧（変更）'!$A$13:$G$35,7,FALSE)),""),"") | R21: {=IF(L21<>"", IF(COUNT(M21:N21),L21*MIN(IF(M21:N21<>"",M21:N21)),""), IF(O21<>"", IF(COUNT(P21:Q21),O21*MIN(IF(P21:Q21<>"",P21:Q21)),""), "" ) )} | T21: 10.自立訓練 | V21: 10 | X21: =F21&G21&H21
A22: 11 | M22: =IF(J22="〇",IF(ISNUMBER(MATCH(K22,$U$12:$U$15,0)),10000,""),IF(COUNTIF($U$12:$U$13,K22),10000,"")) | N22: =IF(ISNUMBER(M22),IFERROR(IF(VLOOKUP(I22,'別記第４号様式_関係書類_就業規則等一覧（変更）'!$A$13:$G$35,6,FALSE)=0,"",VLOOKUP(I22,'別記第４号様式_関係書類_就業規則等一覧（変更）'!$A$13:$G$35,6,FALSE)),""),"") | P22: =IF(J22<>"〇",IF(OR(K22=$U$14,K22=$U$15),20000,""),"") | Q22: =IF(ISNUMBER(P22),IFERROR(IF(VLOOKUP(I22,'別記第４号様式_関係書類_就業規則等一覧（変更）'!$A$13:$G$35,7,FALSE)=0,"",2*VLOOKUP(I22,'別記第４号様式_関係書類_就業規則等一覧（変更）'!$A$13:$G$35,7,FALSE)),""),"") | R22: {=IF(L22<>"", IF(COUNT(M22:N22),L22*MIN(IF(M22:N22<>"",M22:N22)),""), IF(O22<>"", IF(COUNT(P22:Q22),O22*MIN(IF(P22:Q22<>"",P22:Q22)),""), "" ) )} | T22: 11.就労移行支援 | V22: 11 | X22: =F22&G22&H22
A23: 12 | M23: =IF(J23="〇",IF(ISNUMBER(MATCH(K23,$U$12:$U$15,0)),10000,""),IF(COUNTIF($U$12:$U$13,K23),10000,"")) | N23: =IF(ISNUMBER(M23),IFERROR(IF(VLOOKUP(I23,'別記第４号様式_関係書類_就業規則等一覧（変更）'!$A$13:$G$35,6,FALSE)=0,"",VLOOKUP(I23,'別記第４号様式_関係書類_就業規則等一覧（変更）'!$A$13:$G$35,6,FALSE)),""),"") | P23: =IF(J23<>"〇",IF(OR(K23=$U$14,K23=$U$15),20000,""),"") | Q23: =IF(ISNUMBER(P23),IFERROR(IF(VLOOKUP(I23,'別記第４号様式_関係書類_就業規則等一覧（変更）'!$A$13:$G$35,7,FALSE)=0,"",2*VLOOKUP(I23,'別記第４号様式_関係書類_就業規則等一覧（変更）'!$A$13:$G$35,7,FALSE)),""),"") | R23: {=IF(L23<>"", IF(COUNT(M23:N23),L23*MIN(IF(M23:N23<>"",M23:N23)),""), IF(O23<>"", IF(COUNT(P23:Q23),O23*MIN(IF(P23:Q23<>"",P23:Q23)),""), "" ) )} | T23: 12.就労継続支援Ａ型 | V23: 12 | X23: =F23&G23&H23
A24: 13 | M24: =IF(J24="〇",IF(ISNUMBER(MATCH(K24,$U$12:$U$15,0)),10000,""),IF(COUNTIF($U$12:$U$13,K24),10000,"")) | N24: =IF(ISNUMBER(M24),IFERROR(IF(VLOOKUP(I24,'別記第４号様式_関係書類_就業規則等一覧（変更）'!$A$13:$G$35,6,FALSE)=0,"",VLOOKUP(I24,'別記第４号様式_関係書類_就業規則等一覧（変更）'!$A$13:$G$35,6,FALSE)),""),"") | P24: =IF(J24<>"〇",IF(OR(K24=$U$14,K24=$U$15),20000,""),"") | Q24: =IF(ISNUMBER(P24),IFERROR(IF(VLOOKUP(I24,'別記第４号様式_関係書類_就業規則等一覧（変更）'!$A$13:$G$35,7,FALSE)=0,"",2*VLOOKUP(I24,'別記第４号様式_関係書類_就業規則等一覧（変更）'!$A$13:$G$35,7,FALSE)),""),"") | R24: {=IF(L24<>"", IF(COUNT(M24:N24),L24*MIN(IF(M24:N24<>"",M24:N24)),""), IF(O24<>"", IF(COUNT(P24:Q24),O24*MIN(IF(P24:Q24<>"",P24:Q24)),""), "" ) )} | T24: 13.就労継続支援Ｂ型 | X24: =F24&G24&H24
